Workbook

Sheet Ergebnisliste
A1: Nordliga LK4 B
A3: Verein: | B3: Wiker SV
A4: Name | B4: Jahrgang | C4: Sprung | G4: Barren | K4: Balken | O4: Boden | S4: Gesamt
C5: D | D5: E | E5: Pen | F5: Total | G5: D | H5: E | I5: Pen | J5: Total | K5: D | L5: E | M5: Pen | N5: Total | O5: D | P5: E | Q5: Pen | R5: Total
A6: Ida von Seeler | B6: 2014 | C6: 3.1 | D6: 6.9 | F6: =C6+D6-E6 -> 10 | G6: 2.9 | H6: 7 | J6: =G6+H6-I6 -> 9.9 | K6: 2.8 | L6: 6.3 | N6: =K6+L6-M6 -> 9.1 | O6: 3.7 | P6: 7.1 | R6: =O6+P6-Q6 -> 10.8 | S6: =R6+N6+J6+F6 -> 39.8
A7: Nika Kruel | B7: 2013 | C7: 3.1 | D7: 7.6 | F7: =C7+D7-E7 -> 10.7 | G7: 3.3 | H7: 7.8 | J7: =G7+H7-I7 -> 11.1 | N7: =K7+L7-M7 -> 0 | R7: =O7+P7-Q7 -> 0 | S7: =R7+N7+J7+F7 -> 21.8
A8: Pia Rapp | B8: 2017 | C8: 3.1 | D8: 7.9 | F8: =C8+D8-E8 -> 11 | G8: 3.3 | H8: 8 | J8: =G8+H8-I8 -> 11.3 | K8: 3 | L8: 8.2 | N8: =K8+L8-M8 -> 11.2 | O8: 3.6 | P8: 7.1 | R8: =O8+P8-Q8 -> 10.7 | S8: =R8+N8+J8+F8 -> 44.2
A9: Mara Avril Elsa Stoffel | B9: 2010 | F9: =C9+D9-E9 -> 0 | J9: =G9+H9-I9 -> 0 | N9: =K9+L9-M9 -> 0 | R9: =O9+P9-Q9 -> 0 | S9: =R9+N9+J9+F9 -> 0
A10: Elena Drengenberg | B10: 2014 | C10: 3.1 | D10: 7.6 | F10: =C10+D10-E10 -> 10.7 | J10: =G10+H10-I10 -> 0 | K10: 1.8 | L10: 6.9 | N10: =K10+L10-M10 -> 8.7 | O10: 3.4 | P10: 7 | R10: =O10+P10-Q10 -> 10.4 | S10: =R10+N10+J10+F10 -> 29.8
A11: Sofia Condori-Buddemeier | B11: 2016 | C11: 1.6 | D11: 7.8 | F11: =C11+D11-E11 -> 9.4 | G11: 3 | H11: 6.7 | J11: =G11+H11-I11 -> 9.7 | K11: 2 | L11: 7.3 | N11: =K11+L11-M11 -> 9.3 | O11: 3.6 | P11: 6.4 | R11: =O11+P11-Q11 -> 10 | S11: =R11+N11+J11+F11 -> 38.4
A12: Matilda Karich | B12: 2015 | F12: =C12+D12-E12 -> 0 | J12: =G12+H12-I12 -> 0 | N12: =K12+L12-M12 -> 0 | R12: =O12+P12-Q12 -> 0 | S12: =R12+N12+J12+F12 -> 0
A13: Flora Thiede | B13: 2012 | F13: =C13+D13-E13 -> 0 | J13: =G13+H13-I13 -> 0 | K13: 1.4 | L13: 7.2 | N13: =K13+L13-M13 -> 8.6 | O13: 3.3 | P13: 6.9 | R13: =O13+P13-Q13 -> 10.2 | S13: =R13+N13+J13+F13 -> 18.8
A14: Greta Elionor Volkmann | B14: 2017 | F14: =C14+D14-E14 -> 0 | J14: =G14+H14-I14 -> 0 | N14: =K14+L14-M14 -> 0 | R14: =O14+P14-Q14 -> 0 | S14: =R14+N14+J14+F14 -> 0
F15: =C15+D15-E15 -> 0 | J15: =G15+H15-I15 -> 0 | N15: =K15+L15-M15 -> 0 | R15: =O15+P15-Q15 -> 0 | S15: =R15+N15+J15+F15 -> 0
F16: =C16+D16-E16 -> 0 | J16: =G16+H16-I16 -> 0 | N16: =K16+L16-M16 -> 0 | R16: =O16+P16-Q16 -> 0 | S16: =R16+N16+J16+F16 -> 0
F17: =C17+D17-E17 -> 0 | J17: =G17+H17-I17 -> 0 | N17: =K17+L17-M17 -> 0 | R17: =O17+P17-Q17 -> 0 | S17: =R17+N17+J17+F17 -> 0
F18: =C18+D18-E18 -> 0 | J18: =G18+H18-I18 -> 0 | N18: =K18+L18-M18 -> 0 | R18: =O18+P18-Q18 -> 0 | S18: =R18+N18+J18+F18 -> 0
F19: =C19+D19-E19 -> 0 | J19: =G19+H19-I19 -> 0 | N19: =K19+L19-M19 -> 0 | R19: =O19+P19-Q19 -> 0 | S19: =R19+N19+J19+F19 -> 0
F20: =C20+D20-E20 -> 0 | J20: =G20+H20-I20 -> 0 | N20: =K20+L20-M20 -> 0 | R20: =O20+P20-Q20 -> 0 | S20: =R20+N20+J20+F20 -> 0
A21: Mannschaftsergebnis: | F21: =LARGE(F6:F20,1)+LARGE(F6:F20,2)+LARGE(F6:F20,3) -> 32.4 | J21: =LARGE(J6:J20,1)+LARGE(J6:J20,2)+LARGE(J6:J20,3) -> 32.3 | N21: =LARGE(N6:N20,1)+LARGE(N6:N20,2)+LARGE(N6:N20,3) -> 29.6 | R21: =LARGE(R6:R20,1)+LARGE(R6:R20,2)+LARGE(R6:R20,3) -> 31.9 | S21: =R21+N21+J21+F21 -> 126.2
A23: Verein: | B23: Rendsburger TSV V
A24: Name | B24: Jahrgang | C24: Sprung | G24: Barren | K24: Balken | O24: Boden | S24: Gesamt
C25: D | D25: E | E25: Pen | F25: Total | G25: D | H25: E | I25: Pen | J25: Total | K25: D | L25: E | M25: Pen | N25: Total | O25: D | P25: E | Q25: Pen | R25: Total
A26: Klara Biene | B26: 2010 | F26: =C26+D26-E26 -> 0 | J26: =G26+H26-I26 -> 0 | N26: =K26+L26-M26 -> 0 | R26: =O26+P26-Q26 -> 0 | S26: =R26+N26+J26+F26 -> 0
A27: Ebba Söth | B27: 2015 | F27: =C27+D27-E27 -> 0 | J27: =G27+H27-I27 -> 0 | N27: =K27+L27-M27 -> 0 | R27: =O27+P27-Q27 -> 0 | S27: =R27+N27+J27+F27 -> 0
A28: Leni Schröder | B28: 2016 | C28: 3.1 | D28: 7.6 | F28: =C28+D28-E28 -> 10.7 | J28: =G28+H28-I28 -> 0 | K28: 4 | L28: 6.8 | N28: =K28+L28-M28 -> 10.8 | O28: 3.3 | P28: 8.1 | R28: =O28+P28-Q28 -> 11.4 | S28: =R28+N28+J28+F28 -> 32.9
A29: Sophie Harms | B29: 2017 | C29: 1.6 | D29: 8.5 | F29: =C29+D29-E29 -> 10.1 | G29: 3.1 | H29: 7.9 | J29: =G29+H29-I29 -> 11 | K29: 1.5 | L29: 7.3 | N29: =K29+L29-M29 -> 8.8 | O29: 3.3 | P29: 8.4 | R29: =O29+P29-Q29 -> 11.7 | S29: =R29+N29+J29+F29 -> 41.6
A30: Alva Rabenow | B30: 2017 | C30: 1.6 | D30: 8.2 | F30: =C30+D30-E30 -> 9.8 | G30: 3.1 | H30: 6.9 | J30: =G30+H30-I30 -> 10 | K30: 2.9 | L30: 6.5 | N30: =K30+L30-M30 -> 9.4 | O30: 3.9 | P30: 7.4 | Q30: 0.1 | R30: =O30+P30-Q30 -> 11.2 | S30: =R30+N30+J30+F30 -> 40.4
A31: Lenia Claussen | B31: 2017 | C31: 1.6 | D31: 8.1 | F31: =C31+D31-E31 -> 9.7 | G31: 2.4 | H31: 8.2 | J31: =G31+H31-I31 -> 10.6 | K31: 2.7 | L31: 8.5 | N31: =K31+L31-M31 -> 11.2 | O31: 3.3 | P31: 8.3 | R31: =O31+P31-Q31 -> 11.6 | S31: =R31+N31+J31+F31 -> 43.1
A32: Tilda Söth | B32: 2017 | F32: =C32+D32-E32 -> 0 | J32: =G32+H32-I32 -> 0 | N32: =K32+L32-M32 -> 0 | R32: =O32+P32-Q32 -> 0 | S32: =R32+N32+J32+F32 -> 0
A33: Yosra Fatnassi | B33: 2018 | F33: =C33+D33-E33 -> 0 | G33: 2.4 | H33: 8 | J33: =G33+H33-I33 -> 10.4 | N33: =K33+L33-M33 -> 0 | O33: 2.6 | P33: 8 | R33: =O33+P33-Q33 -> 10.6 | S33: =R33+N33+J33+F33 -> 21
A34: Marlene Pfohl | B34: 2018 | F34: =C34+D34-E34 -> 0 | J34: =G34+H34-I34 -> 0 | N34: =K34+L34-M34 -> 0 | R34: =O34+P34-Q34 -> 0 | S34: =R34+N34+J34+F34 -> 0
A35: Pepper Müller | B35: 2021 | F35: =C35+D35-E35 -> 0 | G35: 2.4 | H35: 7.5 | J35: =G35+H35-I35 -> 9.9 | N35: =K35+L35-M35 -> 0 | R35: =O35+P35-Q35 -> 0 | S35: =R35+N35+J35+F35 -> 9.9
A36: Mia Riedl | C36: 1.6 | D36: 7.8 | F36: =C36+D36-E36 -> 9.4 | J36: =G36+H36-I36 -> 0 | K36: 1.5 | L36: 8.2 | N36: =K36+L36-M36 -> 9.7 | R36: =O36+P36-Q36 -> 0 | S36: =R36+N36+J36+F36 -> 19.1
F37: =C37+D37-E37 -> 0 | J37: =G37+H37-I37 -> 0 | N37: =K37+L37-M37 -> 0 | R37: =O37+P37-Q37 -> 0 | S37: =R37+N37+J37+F37 -> 0
F38: =C38+D38-E38 -> 0 | J38: =G38+H38-I38 -> 0 | N38: =K38+L38-M38 -> 0 | R38: =O38+P38-Q38 -> 0 | S38: =R38+N38+J38+F38 -> 0
F39: =C39+D39-E39 -> 0 | J39: =G39+H39-I39 -> 0 | N39: =K39+L39-M39 -> 0 | R39: =O39+P39-Q39 -> 0 | S39: =R39+N39+J39+F39 -> 0
F40: =C40+D40-E40 -> 0 | J40: =G40+H40-I40 -> 0 | N40: =K40+L40-M40 -> 0 | R40: =O40+P40-Q40 -> 0 | S40: =R40+N40+J40+F40 -> 0
A41: Mannschaftsergebnis: | F41: =LARGE(F26:F40,1)+LARGE(F26:F40,2)+LARGE(F26:F40,3) -> 30.6 | J41: =LARGE(J26:J40,1)+LARGE(J26:J40,2)+LARGE(J26:J40,3) -> 32 | N41: =LARGE(N26:N40,1)+LARGE(N26:N40,2)+LARGE(N26:N40,3) -> 31.7 | R41: =LARGE(R26:R40,1)+LARGE(R26:R40,2)+LARGE(R26:R40,3) -> 34.7 | S41: =R41+N41+J41+F41 -> 129
A43: Verein: | B43: TuS Holtenau
A44: Name | B44: Jahrgang | C44: Sprung | G44: Barren | K44: Balken | O44: Boden | S44: Gesamt
C45: D | D45: E | E45: Pen | F45: Total | G45: D | H45: E | I45: Pen | J45: Total | K45: D | L45: E | M45: Pen | N45: Total | O45: D | P45: E | Q45: Pen | R45: Total
A46: Matilda Fuchs | B46: 2017 | F46: =C46+D46-E46 -> 0 | G46: 2.3 | H46: 7.9 | J46: =G46+H46-I46 -> 10.2 | K46: 3.1 | L46: 8.6 | N46: =K46+L46-M46 -> 11.7 | O46: 4.1 | P46: 8.2 | R46: =O46+P46-Q46 -> 12.3 | S46: =R46+N46+J46+F46 -> 34.2
A47: Ida Jensen | B47: 2017 | C47: 1.6 | D47: 8.3 | F47: =C47+D47-E47 -> 9.9 | J47: =G47+H47-I47 -> 0 | N47: =K47+L47-M47 -> 0 | R47: =O47+P47-Q47 -> 0 | S47: =R47+N47+J47+F47 -> 9.9
A48: Leela Ruh | B48: 2017 | C48: 1.6 | D48: 7.95 | F48: =C48+D48-E48 -> 9.55 | G48: 2.3 | H48: 7 | J48: =G48+H48-I48 -> 9.3 | K48: 2 | L48: 8.7 | N48: =K48+L48-M48 -> 10.7 | O48: 3.9 | P48: 7.9 | R48: =O48+P48-Q48 -> 11.8 | S48: =R48+N48+J48+F48 -> 41.35
A49: Anni Peiz | B49: 2017 | C49: 1.6 | D49: 7.85 | F49: =C49+D49-E49 -> 9.45 | J49: =G49+H49-I49 -> 0 | K49: 2.6 | L49: 8 | N49: =K49+L49-M49 -> 10.6 | O49: 3.6 | P49: 7.8 | R49: =O49+P49-Q49 -> 11.4 | S49: =R49+N49+J49+F49 -> 31.45
A50: Clara Schlimm | B50: 2016 | F50: =C50+D50-E50 -> 0 | J50: =G50+H50-I50 -> 0 | N50: =K50+L50-M50 -> 0 | R50: =O50+P50-Q50 -> 0 | S50: =R50+N50+J50+F50 -> 0
A51: Elisa Schedukat | B51: 2017 | F51: =C51+D51-E51 -> 0 | J51: =G51+H51-I51 -> 0 | K51: 2.2 | L51: 8.6 | N51: =K51+L51-M51 -> 10.8 | O51: 3.6 | P51: 7.4 | R51: =O51+P51-Q51 -> 11 | S51: =R51+N51+J51+F51 -> 21.8
A52: Emilia Burmeister | B52: 2017 | C52: 1.6 | D52: 7.8 | F52: =C52+D52-E52 -> 9.4 | G52: 2.4 | H52: 7.7 | J52: =G52+H52-I52 -> 10.1 | K52: 1.6 | L52: 5 | N52: =K52+L52-M52 -> 6.6 | O52: 3.2 | P52: 7.5 | R52: =O52+P52-Q52 -> 10.7 | S52: =R52+N52+J52+F52 -> 36.8
A53: Elisa Schedukat | B53: 2017 | F53: =C53+D53-E53 -> 0 | J53: =G53+H53-I53 -> 0 | N53: =K53+L53-M53 -> 0 | R53: =O53+P53-Q53 -> 0 | S53: =R53+N53+J53+F53 -> 0
F54: =C54+D54-E54 -> 0 | J54: =G54+H54-I54 -> 0 | N54: =K54+L54-M54 -> 0 | R54: =O54+P54-Q54 -> 0 | S54: =R54+N54+J54+F54 -> 0
F55: =C55+D55-E55 -> 0 | J55: =G55+H55-I55 -> 0 | N55: =K55+L55-M55 -> 0 | R55: =O55+P55-Q55 -> 0 | S55: =R55+N55+J55+F55 -> 0
F56: =C56+D56-E56 -> 0 | J56: =G56+H56-I56 -> 0 | N56: =K56+L56-M56 -> 0 | R56: =O56+P56-Q56 -> 0 | S56: =R56+N56+J56+F56 -> 0
F57: =C57+D57-E57 -> 0 | J57: =G57+H57-I57 -> 0 | N57: =K57+L57-M57 -> 0 | R57: =O57+P57-Q57 -> 0 | S57: =R57+N57+J57+F57 -> 0
F58: =C58+D58-E58 -> 0 | J58: =G58+H58-I58 -> 0 | N58: =K58+L58-M58 -> 0 | R58: =O58+P58-Q58 -> 0 | S58: =R58+N58+J58+F58 -> 0
F59: =C59+D59-E59 -> 0 | J59: =G59+H59-I59 -> 0 | N59: =K59+L59-M59 -> 0 | R59: =O59+P59-Q59 -> 0 | S59: =R59+N59+J59+F59 -> 0
F60: =C60+D60-E60 -> 0 | J60: =G60+H60-I60 -> 0 | N60: =K60+L60-M60 -> 0 | R60: =O60+P60-Q60 -> 0 | S60: =R60+N60+J60+F60 -> 0
A61: Mannschaftsergebnis: | F61: =LARGE(F46:F60,1)+LARGE(F46:F60,2)+LARGE(F46:F60,3) -> 28.9 | J61: =LARGE(J46:J60,1)+LARGE(J46:J60,2)+LARGE(J46:J60,3) -> 29.6 | N61: =LARGE(N46:N60,1)+LARGE(N46:N60,2)+LARGE(N46:N60,3) -> 33.2 | R61: =LARGE(R46:R60,1)+LARGE(R46:R60,2)+LARGE(R46:R60,3) -> 35.5 | S61: =R61+N61+J61+F61 -> 127.2
A63: Verein: | B63: TSV Niebüll
A64: Name | B64: Jahrgang | C64: Sprung | G64: Barren | K64: Balken | O64: Boden | S64: Gesamt
C65: D | D65: E | E65: Pen | F65: Total | G65: D | H65: E | I65: Pen | J65: Total | K65: D | L65: E | M65: Pen | N65: Total | O65: D | P65: E | Q65: Pen | R65: Total
A66: Lina-Marleen Biehl | B66: 2005 | F66: =C66+D66-E66 -> 0 | G66: 3 | H66: 6.9 | J66: =G66+H66-I66 -> 9.9 | N66: =K66+L66-M66 -> 0 | O66: 4 | P66: 7.3 | R66: =O66+P66-Q66 -> 11.3 | S66: =R66+N66+J66+F66 -> 21.2
A67: Kim Jessen | B67: 2009 | F67: =C67+D67-E67 -> 0 | J67: =G67+H67-I67 -> 0 | N67: =K67+L67-M67 -> 0 | R67: =O67+P67-Q67 -> 0 | S67: =R67+N67+J67+F67 -> 0
A68: Michelle Ribsam | B68: 2012 | C68: 3.1 | D68: 8.7 | F68: =C68+D68-E68 -> 11.8 | J68: =G68+H68-I68 -> 0 | K68: 3.7 | L68: 8.5 | N68: =K68+L68-M68 -> 12.2 | O68: 4 | P68: 7.7 | R68: =O68+P68-Q68 -> 11.7 | S68: =R68+N68+J68+F68 -> 35.7
A69: Lenja Nielsen | B69: 2012 | F69: =C69+D69-E69 -> 0 | J69: =G69+H69-I69 -> 0 | N69: =K69+L69-M69 -> 0 | R69: =O69+P69-Q69 -> 0 | S69: =R69+N69+J69+F69 -> 0
A70: Jana Petersen | B70: 2010 | F70: =C70+D70-E70 -> 0 | J70: =G70+H70-I70 -> 0 | N70: =K70+L70-M70 -> 0 | R70: =O70+P70-Q70 -> 0 | S70: =R70+N70+J70+F70 -> 0
A71: Stina Gerdsen | B71: 2006 | F71: =C71+D71-E71 -> 0 | J71: =G71+H71-I71 -> 0 | N71: =K71+L71-M71 -> 0 | R71: =O71+P71-Q71 -> 0 | S71: =R71+N71+J71+F71 -> 0
A72: Maria Dzhioeva | B72: 2015 | C72: 3.1 | D72: 6.9 | F72: =C72+D72-E72 -> 10 | G72: 3 | H72: 7.5 | J72: =G72+H72-I72 -> 10.5 | K72: 3.4 | L72: 8.8 | N72: =K72+L72-M72 -> 12.2 | O72: 4.2 | P72: 6.8 | R72: =O72+P72-Q72 -> 11 | S72: =R72+N72+J72+F72 -> 43.7
A73: Sofia Dzhioeva | B73: 2015 | F73: =C73+D73-E73 -> 0 | J73: =G73+H73-I73 -> 0 | N73: =K73+L73-M73 -> 0 | R73: =O73+P73-Q73 -> 0 | S73: =R73+N73+J73+F73 -> 0
A74: Lara Kühnel | B74: 2016 | C74: 3.1 | D74: 7.7 | F74: =C74+D74-E74 -> 10.8 | G74: 3.1 | H74: 8.2 | J74: =G74+H74-I74 -> 11.3 | K74: 2.8 | L74: 7.4 | N74: =K74+L74-M74 -> 10.2 | O74: 4.2 | P74: 7.8 | R74: =O74+P74-Q74 -> 12 | S74: =R74+N74+J74+F74 -> 44.3
A75: Leoni König | B75: 2015 | F75: =C75+D75-E75 -> 0 | J75: =G75+H75-I75 -> 0 | N75: =K75+L75-M75 -> 0 | R75: =O75+P75-Q75 -> 0 | S75: =R75+N75+J75+F75 -> 0
A76: Janne-Marie Helbig | B76: 2015 | C76: 3.1 | D76: 8.8 | F76: =C76+D76-E76 -> 11.9 | G76: 3.1 | H76: 7.2 | J76: =G76+H76-I76 -> 10.3 | K76: 3.4 | L76: 8.5 | N76: =K76+L76-M76 -> 11.9 | R76: =O76+P76-Q76 -> 0 | S76: =R76+N76+J76+F76 -> 34.1
A77: Lena Brenneke | B77: 2016 | F77: =C77+D77-E77 -> 0 | J77: =G77+H77-I77 -> 0 | N77: =K77+L77-M77 -> 0 | R77: =O77+P77-Q77 -> 0 | S77: =R77+N77+J77+F77 -> 0
A78: Ida Marie Köhler | B78: 2014 | F78: =C78+D78-E78 -> 0 | J78: =G78+H78-I78 -> 0 | N78: =K78+L78-M78 -> 0 | R78: =O78+P78-Q78 -> 0 | S78: =R78+N78+J78+F78 -> 0
A79: Charlotte Hoppe | B79: 2014 | C79: 3.1 | D79: 6.35 | F79: =C79+D79-E79 -> 9.45 | J79: =G79+H79-I79 -> 0 | K79: 2.8 | L79: 7.3 | N79: =K79+L79-M79 -> 10.1 | O79: 4.1 | P79: 7.3 | R79: =O79+P79-Q79 -> 11.4 | S79: =R79+N79+J79+F79 -> 30.95
A80: Annika Kehnappel | B80: 2016 | F80: =C80+D80-E80 -> 0 | G80: 2.8 | H80: 7.1 | J80: =G80+H80-I80 -> 9.9 | N80: =K80+L80-M80 -> 0 | R80: =O80+P80-Q80 -> 0 | S80: =R80+N80+J80+F80 -> 9.9
A81: Mannschaftsergebnis: | F81: =LARGE(F66:F80,1)+LARGE(F66:F80,2)+LARGE(F66:F80,3) -> 34.5 | J81: =LARGE(J66:J80,1)+LARGE(J66:J80,2)+LARGE(J66:J80,3) -> 32.1 | N81: =LARGE(N66:N80,1)+LARGE(N66:N80,2)+LARGE(N66:N80,3) -> 36.3 | R81: =LARGE(R66:R80,1)+LARGE(R66:R80,2)+LARGE(R66:R80,3) -> 35.1 | S81: =R81+N81+J81+F81 -> 138
A83: Verein: | B83: TGSV Nord Wanderup
A84: Name | B84: Jahrgang | C84: Sprung | G84: Barren | K84: Balken | O84: Boden | S84: Gesamt
C85: D | D85: E | E85: Pen | F85: Total | G85: D | H85: E | I85: Pen | J85: Total | K85: D | L85: E | M85: Pen | N85: Total | O85: D | P85: E | Q85: Pen | R85: Total
A86: Denise Kraft | B86: 2018 | C86: 2.2 | D86: 8.2 | F86: =C86+D86-E86 -> 10.4 | G86: 2.4 | H86: 6.2 | J86: =G86+H86-I86 -> 8.6 | K86: 2.1 | L86: 8.5 | N86: =K86+L86-M86 -> 10.6 | O86: 2.9 | P86: 8.2 | R86: =O86+P86-Q86 -> 11.1 | S86: =R86+N86+J86+F86 -> 40.7
A87: Mia Wroblewski | B87: 2018 | F87: =C87+D87-E87 -> 0 | J87: =G87+H87-I87 -> 0 | N87: =K87+L87-M87 -> 0 | R87: =O87+P87-Q87 -> 0 | S87: =R87+N87+J87+F87 -> 0
A88: Louisa Krüger | B88: 2017 | C88: 2.2 | D88: 6.5 | F88: =C88+D88-E88 -> 8.7 | G88: 3.2 | H88: 5.6 | J88: =G88+H88-I88 -> 8.8 | K88: 3.5 | L88: 7.1 | N88: =K88+L88-M88 -> 10.6 | O88: 2.4 | P88: 8 | R88: =O88+P88-Q88 -> 10.4 | S88: =R88+N88+J88+F88 -> 38.5
A89: Pauline Colberg | B89: 2018 | C89: 2.2 | D89: 7.9 | F89: =C89+D89-E89 -> 10.1 | G89: 2.4 | H89: 7.4 | J89: =G89+H89-I89 -> 9.8 | K89: 2.9 | L89: 8 | N89: =K89+L89-M89 -> 10.9 | O89: 2.7 | P89: 8.2 | R89: =O89+P89-Q89 -> 10.9 | S89: =R89+N89+J89+F89 -> 41.7
A90: Mia-Sophie Höck | B90: 2016 | C90: 3.1 | D90: 6.6 | F90: =C90+D90-E90 -> 9.7 | G90: 2.3 | H90: 7.6 | J90: =G90+H90-I90 -> 9.9 | K90: 3.4 | L90: 7 | N90: =K90+L90-M90 -> 10.4 | O90: 3.5 | P90: 8.1 | R90: =O90+P90-Q90 -> 11.6 | S90: =R90+N90+J90+F90 -> 41.6
A91: Maila Thordsen | B91: 2016 | C91: 2.2 | D91: 7.9 | F91: =C91+D91-E91 -> 10.1 | G91: 2.5 | H91: 7.8 | J91: =G91+H91-I91 -> 10.3 | K91: 2.2 | L91: 7.7 | N91: =K91+L91-M91 -> 9.9 | O91: 2.9 | P91: 8.2 | R91: =O91+P91-Q91 -> 11.1 | S91: =R91+N91+J91+F91 -> 41.4
A92: Liva Simon | B92: 2018 | F92: =C92+D92-E92 -> 0 | J92: =G92+H92-I92 -> 0 | N92: =K92+L92-M92 -> 0 | R92: =O92+P92-Q92 -> 0 | S92: =R92+N92+J92+F92 -> 0
F93: =C93+D93-E93 -> 0 | J93: =G93+H93-I93 -> 0 | N93: =K93+L93-M93 -> 0 | R93: =O93+P93-Q93 -> 0 | S93: =R93+N93+J93+F93 -> 0
F94: =C94+D94-E94 -> 0 | J94: =G94+H94-I94 -> 0 | N94: =K94+L94-M94 -> 0 | R94: =O94+P94-Q94 -> 0 | S94: =R94+N94+J94+F94 -> 0
F95: =C95+D95-E95 -> 0 | J95: =G95+H95-I95 -> 0 | N95: =K95+L95-M95 -> 0 | R95: =O95+P95-Q95 -> 0 | S95: =R95+N95+J95+F95 -> 0
F96: =C96+D96-E96 -> 0 | J96: =G96+H96-I96 -> 0 | N96: =K96+L96-M96 -> 0 | R96: =O96+P96-Q96 -> 0 | S96: =R96+N96+J96+F96 -> 0
F97: =C97+D97-E97 -> 0 | J97: =G97+H97-I97 -> 0 | N97: =K97+L97-M97 -> 0 | R97: =O97+P97-Q97 -> 0 | S97: =R97+N97+J97+F97 -> 0
F98: =C98+D98-E98 -> 0 | J98: =G98+H98-I98 -> 0 | N98: =K98+L98-M98 -> 0 | R98: =O98+P98-Q98 -> 0 | S98: =R98+N98+J98+F98 -> 0
F99: =C99+D99-E99 -> 0 | J99: =G99+H99-I99 -> 0 | N99: =K99+L99-M99 -> 0 | R99: =O99+P99-Q99 -> 0 | S99: =R99+N99+J99+F99 -> 0
F100: =C100+D100-E100 -> 0 | J100: =G100+H100-I100 -> 0 | N100: =K100+L100-M100 -> 0 | R100: =O100+P100-Q100 -> 0 | S100: =R100+N100+J100+F100 -> 0
A101: Mannschaftsergebnis: | F101: =LARGE(F86:F100,1)+LARGE(F86:F100,2)+LARGE(F86:F100,3) -> 30.6 | J101: =LARGE(J86:J100,1)+LARGE(J86:J100,2)+LARGE(J86:J100,3) -> 30 | N101: =LARGE(N86:N100,1)+LARGE(N86:N100,2)+LARGE(N86:N100,3) -> 32.1 | R101: =LARGE(R86:R100,1)+LARGE(R86:R100,2)+LARGE(R86:R100,3) -> 33.8 | S101: =R101+N101+J101+F101 -> 126.5
A103: Verein: | B103: Tönninger SV
A104: Name | B104: Jahrgang | C104: Sprung | G104: Barren | K104: Balken | O104: Boden | S104: Gesamt
C105: D | D105: E | E105: Pen | F105: Total | G105: D | H105: E | I105: Pen | J105: Total | K105: D | L105: E | M105: Pen | N105: Total | O105: D | P105: E | Q105: Pen | R105: Total
A106: Mia De Le Roi | B106: 2015 | F106: =C106+D106-E106 -> 0 | J106: =G106+H106-I106 -> 0 | N106: =K106+L106-M106 -> 0 | R106: =O106+P106-Q106 -> 0 | S106: =R106+N106+J106+F106 -> 0
...

Sheet Zusammenfassung
A1: Verein | B1: Sprung | C1: Barren | D1: Balken | E1: Boden | F1: Gesamt | G1: Platzierung
A2: =Ergebnisliste!B63 -> TSV Niebüll | B2: =Ergebnisliste!F81 -> 34.5 | C2: =Ergebnisliste!J81 -> 32.1 | D2: =Ergebnisliste!N81 -> 36.3 | E2: =Ergebnisliste!R81 -> 35.1 | F2: =Ergebnisliste!S81 -> 138 | G2: =RANK(F2,$F$2:$F$9,0) -> 1
A3: =Ergebnisliste!B123 -> Gettorfer TV | B3: =Ergebnisliste!F141 -> 34.35 | C3: =Ergebnisliste!J141 -> 28.3 | D3: =Ergebnisliste!N141 -> 36 | E3: =Ergebnisliste!R141 -> 35.7 | F3: =Ergebnisliste!S141 -> 134.35 | G3: =RANK(F3,$F$2:$F$9,0) -> 2
A4: =Ergebnisliste!B143 -> TSV Bordesholm | B4: =Ergebnisliste!F161 -> 33 | C4: =Ergebnisliste!J161 -> 30.3 | D4: =Ergebnisliste!N161 -> 35.7 | E4: =Ergebnisliste!R161 -> 35.2 | F4: =Ergebnisliste!S161 -> 134.2 | G4: =RANK(F4,$F$2:$F$9,0) -> 3
A5: =Ergebnisliste!B23 -> Rendsburger TSV V | B5: =Ergebnisliste!F41 -> 30.6 | C5: =Ergebnisliste!J41 -> 32 | D5: =Ergebnisliste!N41 -> 31.7 | E5: =Ergebnisliste!R41 -> 34.7 | F5: =Ergebnisliste!S41 -> 129 | G5: =RANK(F5,$F$2:$F$9,0) -> 4
A6: =Ergebnisliste!B43 -> TuS Holtenau | B6: =Ergebnisliste!F61 -> 28.9 | C6: =Ergebnisliste!J61 -> 29.6 | D6: =Ergebnisliste!N61 -> 33.2 | E6: =Ergebnisliste!R61 -> 35.5 | F6: =Ergebnisliste!S61 -> 127.2 | G6: =RANK(F6,$F$2:$F$9,0) -> 5
A7: =Ergebnisliste!B83 -> TGSV Nord Wanderup | B7: =Ergebnisliste!F101 -> 30.6 | C7: =Ergebnisliste!J101 -> 30 | D7: =Ergebnisliste!N101 -> 32.1 | E7: =Ergebnisliste!R101 -> 33.8 | F7: =Ergebnisliste!S101 -> 126.5 | G7: =RANK(F7,$F$2:$F$9,0) -> 6
A8: =Ergebnisliste!B3 -> Wiker SV | B8: =Ergebnisliste!F21 -> 32.4 | C8: =Ergebnisliste!J21 -> 32.3 | D8: =Ergebnisliste!N21 -> 29.6 | E8: =Ergebnisliste!R21 -> 31.9 | F8: =Ergebnisliste!S21 -> 126.2 | G8: =RANK(F8,$F$2:$F$9,0) -> 7
A9: =Ergebnisliste!B103 -> Tönninger SV | B9: =Ergebnisliste!F121 -> 0 | C9: =Ergebnisliste!J121 -> 0 | D9: =Ergebnisliste!N121 -> 0 | E9: =Ergebnisliste!R121 -> 0 | F9: =Ergebnisliste!S121 -> 0 | G9: =RANK(F9,$F$2:$F$9,0) -> 8

Sheet Gesamtübersicht
A1: Nordliga LK3 B 2024
A3: 1. Wettkampfpunkte: Jede Mannschaft erhält entsprechend ihrem erturnten Rang Wettkampfpunkte. Diese werden über die Wettkämpfe addiert.
A4: 2. Die tatsächlichen erturnten Punkte der Mannschaft. Diese werden über die Wettkämpfe addiert.
B8: 1. Wettkampftag | D8: 2. Wettkampftag | F8: Zwischen-/Endergebnis | H8: Platz
A9: Verein
B10: geturnte Pkt | C10: WK- Punkte | D10: geturnte Pkt | E10: WK- Punkte | F10: geturnte Pkt | G10: WK- Punkte
A11: TSV Niebüll | B11: 138 | C11: 7 | F11: =B11+D11 -> 138 | G11: =C11+E11 -> 7
A12: Gettorfer TV | B12: 134.35 | C12: 6 | F12: =B12+D12 -> 134.35 | G12: =C12+E12 -> 6
A13: TSV Bordesholm | B13: 134.2 | C13: 5 | F13: =B13+D13 -> 134.2 | G13: =C13+E13 -> 5
A14: Rendsburger TSV V | B14: 129 | C14: 4 | F14: =B14+D14 -> 129 | G14: =C14+E14 -> 4
A15: TuS Holtenau | B15: 127.2 | C15: 3 | F15: =B15+D15 -> 127.2 | G15: =C15+E15 -> 3
A16: TGSV Nord Wanderup | B16: 126.5 | C16: 2 | F16: =B16+D16 -> 126.5 | G16: =C16+E16 -> 2
A17: Wiker SV | B17: 126.2 | C17: 1 | F17: =B17+D17 -> 126.2 | G17: =C17+E17 -> 1

Sheet Beste Turnerin
A1: Name | B1: Jahrgang | C1: Sprung | D1: Barren | E1: Balken | F1: Boden | G1: Gesamt
A2: =Ergebnisliste!A128 -> Frieda Schmelzing | B2: =Ergebnisliste!B128 -> 0 | C2: =Ergebnisliste!F128 -> 10.8 | D2: =Ergebnisliste!J128 -> 9 | E2: =Ergebnisliste!N128 -> 11.9 | F2: =Ergebnisliste!R128 -> 12.6 | G2: =Ergebnisliste!S128 -> 44.3
A3: =Ergebnisliste!A46 -> Matilda Fuchs | B3: =Ergebnisliste!B46 -> 2017 | C3: =Ergebnisliste!F46 -> 0 | D3: =Ergebnisliste!J46 -> 10.2 | E3: =Ergebnisliste!N46 -> 11.7 | F3: =Ergebnisliste!R46 -> 12.3 | G3: =Ergebnisliste!S46 -> 34.2
A4: =Ergebnisliste!A150 -> Klara Hamann | B4: =Ergebnisliste!B150 -> 2014 | C4: =Ergebnisliste!F150 -> 10.75 | D4: =Ergebnisliste!J150 -> 7.3 | E4: =Ergebnisliste!N150 -> 12 | F4: =Ergebnisliste!R150 -> 12.2 | G4: =Ergebnisliste!S150 -> 42.25
A5: =Ergebnisliste!A74 -> Lara Kühnel | B5: =Ergebnisliste!B74 -> 2016 | C5: =Ergebnisliste!F74 -> 10.8 | D5: =Ergebnisliste!J74 -> 11.3 | E5: =Ergebnisliste!N74 -> 10.2 | F5: =Ergebnisliste!R74 -> 12 | G5: =Ergebnisliste!S74 -> 44.3
A6: =Ergebnisliste!A48 -> Leela Ruh | B6: =Ergebnisliste!B48 -> 2017 | C6: =Ergebnisliste!F48 -> 9.55 | D6: =Ergebnisliste!J48 -> 9.3 | E6: =Ergebnisliste!N48 -> 10.7 | F6: =Ergebnisliste!R48 -> 11.8 | G6: =Ergebnisliste!S48 -> 41.35
A7: =Ergebnisliste!A68 -> Michelle Ribsam | B7: =Ergebnisliste!B68 -> 2012 | C7: =Ergebnisliste!F68 -> 11.8 | D7: =Ergebnisliste!J68 -> 0 | E7: =Ergebnisliste!N68 -> 12.2 | F7: =Ergebnisliste!R68 -> 11.7 | G7: =Ergebnisliste!S68 -> 35.7
A8: =Ergebnisliste!A29 -> Sophie Harms | B8: =Ergebnisliste!B29 -> 2017 | C8: =Ergebnisliste!F29 -> 10.1 | D8: =Ergebnisliste!J29 -> 11 | E8: =Ergebnisliste!N29 -> 8.8 | F8: =Ergebnisliste!R29 -> 11.7 | G8: =Ergebnisliste!S29 -> 41.6
A9: =Ergebnisliste!A31 -> Lenia Claussen | B9: =Ergebnisliste!B31 -> 2017 | C9: =Ergebnisliste!F31 -> 9.7 | D9: =Ergebnisliste!J31 -> 10.6 | E9: =Ergebnisliste!N31 -> 11.2 | F9: =Ergebnisliste!R31 -> 11.6 | G9: =Ergebnisliste!S31 -> 43.1
A10: =Ergebnisliste!A126 -> Katrine Sebastian | B10: =Ergebnisliste!B126 -> 0 | C10: =Ergebnisliste!F126 -> 10.7 | D10: =Ergebnisliste!J126 -> 9.8 | E10: =Ergebnisliste!N126 -> 11.4 | F10: =Ergebnisliste!R126 -> 11.6 | G10: =Ergebnisliste!S126 -> 43.5
A11: =Ergebnisliste!A90 -> Mia-Sophie Höck | B11: =Ergebnisliste!B90 -> 2016 | C11: =Ergebnisliste!F90 -> 9.7 | D11: =Ergebnisliste!J90 -> 9.9 | E11: =Ergebnisliste!N90 -> 10.4 | F11: =Ergebnisliste!R90 -> 11.6 | G11: =Ergebnisliste!S90 -> 41.6
A12: =Ergebnisliste!A151 -> Elisa Homm | B12: =Ergebnisliste!B151 -> 2014 | C12: =Ergebnisliste!F151 -> 11.2 | D12: =Ergebnisliste!J151 -> 10.2 | E12: =Ergebnisliste!N151 -> 0 | F12: =Ergebnisliste!R151 -> 11.6 | G12: =Ergebnisliste!S151 -> 33
A13: =Ergebnisliste!A127 -> Line Krause | B13: =Ergebnisliste!B127 -> 0 | C13: =Ergebnisliste!F127 -> 12 | D13: =Ergebnisliste!J127 -> 9.2 | E13: =Ergebnisliste!N127 -> 12 | F13: =Ergebnisliste!R127 -> 11.5 | G13: =Ergebnisliste!S127 -> 44.7
A14: =Ergebnisliste!A49 -> Anni Peiz | B14: =Ergebnisliste!B49 -> 2017 | C14: =Ergebnisliste!F49 -> 9.45 | D14: =Ergebnisliste!J49 -> 0 | E14: =Ergebnisliste!N49 -> 10.6 | F14: =Ergebnisliste!R49 -> 11.4 | G14: =Ergebnisliste!S49 -> 31.45
A15: =Ergebnisliste!A147 -> Anna Arpe | B15: =Ergebnisliste!B147 -> 2013 | C15: =Ergebnisliste!F147 -> 10.7 | D15: =Ergebnisliste!J147 -> 10.2 | E15: =Ergebnisliste!N147 -> 9.8 | F15: =Ergebnisliste!R147 -> 11.4 | G15: =Ergebnisliste!S147 -> 42.1
A16: =Ergebnisliste!A28 -> Leni Schröder | B16: =Ergebnisliste!B28 -> 2016 | C16: =Ergebnisliste!F28 -> 10.7 | D16: =Ergebnisliste!J28 -> 0 | E16: =Ergebnisliste!N28 -> 10.8 | F16: =Ergebnisliste!R28 -> 11.4 | G16: =Ergebnisliste!S28 -> 32.9
A17: =Ergebnisliste!A79 -> Charlotte Hoppe | B17: =Ergebnisliste!B79 -> 2014 | C17: =Ergebnisliste!F79 -> 9.45 | D17: =Ergebnisliste!J79 -> 0 | E17: =Ergebnisliste!N79 -> 10.1 | F17: =Ergebnisliste!R79 -> 11.4 | G17: =Ergebnisliste!S79 -> 30.95
A18: =Ergebnisliste!A129 -> Ronja Michelin | B18: =Ergebnisliste!B129 -> 0 | C18: =Ergebnisliste!F129 -> 11.55 | D18: =Ergebnisliste!J129 -> 9.3 | E18: =Ergebnisliste!N129 -> 12.1 | F18: =Ergebnisliste!R129 -> 11.3 | G18: =Ergebnisliste!S129 -> 44.25
A19: =Ergebnisliste!A66 -> Lina-Marleen Biehl | B19: =Ergebnisliste!B66 -> 2005 | C19: =Ergebnisliste!F66 -> 0 | D19: =Ergebnisliste!J66 -> 9.9 | E19: =Ergebnisliste!N66 -> 0 | F19: =Ergebnisliste!R66 -> 11.3 | G19: =Ergebnisliste!S66 -> 21.2
A20: =Ergebnisliste!A30 -> Alva Rabenow | B20: =Ergebnisliste!B30 -> 2017 | C20: =Ergebnisliste!F30 -> 9.8 | D20: =Ergebnisliste!J30 -> 10 | E20: =Ergebnisliste!N30 -> 9.4 | F20: =Ergebnisliste!R30 -> 11.2 | G20: =Ergebnisliste!S30 -> 40.4
A21: =Ergebnisliste!A86 -> Denise Kraft | B21: =Ergebnisliste!B86 -> 2018 | C21: =Ergebnisliste!F86 -> 10.4 | D21: =Ergebnisliste!J86 -> 8.6 | E21: =Ergebnisliste!N86 -> 10.6 | F21: =Ergebnisliste!R86 -> 11.1 | G21: =Ergebnisliste!S86 -> 40.7
A22: =Ergebnisliste!A91 -> Maila Thordsen | B22: =Ergebnisliste!B91 -> 2016 | C22: =Ergebnisliste!F91 -> 10.1 | D22: =Ergebnisliste!J91 -> 10.3 | E22: =Ergebnisliste!N91 -> 9.9 | F22: =Ergebnisliste!R91 -> 11.1 | G22: =Ergebnisliste!S91 -> 41.4
A23: =Ergebnisliste!A72 -> Maria Dzhioeva | B23: =Ergebnisliste!B72 -> 2015 | C23: =Ergebnisliste!F72 -> 10 | D23: =Ergebnisliste!J72 -> 10.5 | E23: =Ergebnisliste!N72 -> 12.2 | F23: =Ergebnisliste!R72 -> 11 | G23: =Ergebnisliste!S72 -> 43.7
A24: =Ergebnisliste!A51 -> Elisa Schedukat | B24: =Ergebnisliste!B51 -> 2017 | C24: =Ergebnisliste!F51 -> 0 | D24: =Ergebnisliste!J51 -> 0 | E24: =Ergebnisliste!N51 -> 10.8 | F24: =Ergebnisliste!R51 -> 11 | G24: =Ergebnisliste!S51 -> 21.8
A25: =Ergebnisliste!A146 -> Charlotte Albrecht | B25: =Ergebnisliste!B146 -> 2014 | C25: =Ergebnisliste!F146 -> 0 | D25: =Ergebnisliste!J146 -> 8.6 | E25: =Ergebnisliste!N146 -> 8.6 | F25: =Ergebnisliste!R146 -> 11 | G25: =Ergebnisliste!S146 -> 28.2
A26: =Ergebnisliste!A89 -> Pauline Colberg | B26: =Ergebnisliste!B89 -> 2018 | C26: =Ergebnisliste!F89 -> 10.1 | D26: =Ergebnisliste!J89 -> 9.8 | E26: =Ergebnisliste!N89 -> 10.9 | F26: =Ergebnisliste!R89 -> 10.9 | G26: =Ergebnisliste!S89 -> 41.7
A27: =Ergebnisliste!A6 -> Ida von Seeler | B27: =Ergebnisliste!B6 -> 2014 | C27: =Ergebnisliste!F6 -> 10 | D27: =Ergebnisliste!J6 -> 9.9 | E27: =Ergebnisliste!N6 -> 9.1 | F27: =Ergebnisliste!R6 -> 10.8 | G27: =Ergebnisliste!S6 -> 39.8
A28: =Ergebnisliste!A8 -> Pia Rapp | B28: =Ergebnisliste!B8 -> 2017 | C28: =Ergebnisliste!F8 -> 11 | D28: =Ergebnisliste!J8 -> 11.3 | E28: =Ergebnisliste!N8 -> 11.2 | F28: =Ergebnisliste!R8 -> 10.7 | G28: =Ergebnisliste!S8 -> 44.2
A29: =Ergebnisliste!A52 -> Emilia Burmeister | B29: =Ergebnisliste!B52 -> 2017 | C29: =Ergebnisliste!F52 -> 9.4 | D29: =Ergebnisliste!J52 -> 10.1 | E29: =Ergebnisliste!N52 -> 6.6 | F29: =Ergebnisliste!R52 -> 10.7 | G29: =Ergebnisliste!S52 -> 36.8
A30: =Ergebnisliste!A33 -> Yosra Fatnassi | B30: =Ergebnisliste!B33 -> 2018 | C30: =Ergebnisliste!F33 -> 0 | D30: =Ergebnisliste!J33 -> 10.4 | E30: =Ergebnisliste!N33 -> 0 | F30: =Ergebnisliste!R33 -> 10.6 | G30: =Ergebnisliste!S33 -> 21
A31: =Ergebnisliste!A88 -> Louisa Krüger | B31: =Ergebnisliste!B88 -> 2017 | C31: =Ergebnisliste!F88 -> 8.7 | D31: =Ergebnisliste!J88 -> 8.8 | E31: =Ergebnisliste!N88 -> 10.6 | F31: =Ergebnisliste!R88 -> 10.4 | G31: =Ergebnisliste!S88 -> 38.5
A32: =Ergebnisliste!A10 -> Elena Drengenberg | B32: =Ergebnisliste!B10 -> 2014 | C32: =Ergebnisliste!F10 -> 10.7 | D32: =Ergebnisliste!J10 -> 0 | E32: =Ergebnisliste!N10 -> 8.7 | F32: =Ergebnisliste!R10 -> 10.4 | G32: =Ergebnisliste!S10 -> 29.8
A33: =Ergebnisliste!A13 -> Flora Thiede | B33: =Ergebnisliste!B13 -> 2012 | C33: =Ergebnisliste!F13 -> 0 | D33: =Ergebnisliste!J13 -> 0 | E33: =Ergebnisliste!N13 -> 8.6 | F33: =Ergebnisliste!R13 -> 10.2 | G33: =Ergebnisliste!S13 -> 18.8
A34: =Ergebnisliste!A11 -> Sofia Condori-Buddemeier | B34: =Ergebnisliste!B11 -> 2016 | C34: =Ergebnisliste!F11 -> 9.4 | D34: =Ergebnisliste!J11 -> 9.7 | E34: =Ergebnisliste!N11 -> 9.3 | F34: =Ergebnisliste!R11 -> 10 | G34: =Ergebnisliste!S11 -> 38.4
A35: =Ergebnisliste!A149 -> Sünje Eisend | B35: =Ergebnisliste!B149 -> 2015 | C35: =Ergebnisliste!F149 -> 11 | D35: =Ergebnisliste!J149 -> 0 | E35: =Ergebnisliste!N149 -> 11.2 | F35: =Ergebnisliste!R149 -> 9.7 | G35: =Ergebnisliste!S149 -> 31.9
A36: =Ergebnisliste!A148 -> Lara Böttcher | B36: =Ergebnisliste!B148 -> 2013 | C36: =Ergebnisliste!F148 -> 10.8 | D36: =Ergebnisliste!J148 -> 9.9 | E36: =Ergebnisliste!N148 -> 12.5 | F36: =Ergebnisliste!R148 -> 0 | G36: =Ergebnisliste!S148 -> 33.2
A37: =Ergebnisliste!A76 -> Janne-Marie Helbig | B37: =Ergebnisliste!B76 -> 2015 | C37: =Ergebnisliste!F76 -> 11.9 | D37: =Ergebnisliste!J76 -> 10.3 | E37: =Ergebnisliste!N76 -> 11.9 | F37: =Ergebnisliste!R76 -> 0 | G37: =Ergebnisliste!S76 -> 34.1
A38: =Ergebnisliste!A36 -> Mia Riedl | B38: =Ergebnisliste!B36 -> 0 | C38: =Ergebnisliste!F36 -> 9.4 | D38: =Ergebnisliste!J36 -> 0 | E38: =Ergebnisliste!N36 -> 9.7 | F38: =Ergebnisliste!R36 -> 0 | G38: =Ergebnisliste!S36 -> 19.1
A39: =Ergebnisliste!A7 -> Nika Kruel | B39: =Ergebnisliste!B7 -> 2013 | C39: =Ergebnisliste!F7 -> 10.7 | D39: =Ergebnisliste!J7 -> 11.1 | E39: =Ergebnisliste!N7 -> 0 | F39: =Ergebnisliste!R7 -> 0 | G39: =Ergebnisliste!S7 -> 21.8
A40: =Ergebnisliste!A35 -> Pepper Müller | B40: =Ergebnisliste!B35 -> 2021 | C40: =Ergebnisliste!F35 -> 0 | D40: =Ergebnisliste!J35 -> 9.9 | E40: =Ergebnisliste!N35 -> 0 | F40: =Ergebnisliste!R35 -> 0 | G40: =Ergebnisliste!S35 -> 9.9
A41: =Ergebnisliste!A80 -> Annika Kehnappel | B41: =Ergebnisliste!B80 -> 2016 | C41: =Ergebnisliste!F80 -> 0 | D41: =Ergebnisliste!J80 -> 9.9 | E41: =Ergebnisliste!N80 -> 0 | F41: =Ergebnisliste!R80 -> 0 | G41: =Ergebnisliste!S80 -> 9.9
A42: =Ergebnisliste!A47 -> Ida Jensen | B42: =Ergebnisliste!B47 -> 2017 | C42: =Ergebnisliste!F47 -> 9.9 | D42: =Ergebnisliste!J47 -> 0 | E42: =Ergebnisliste!N47 -> 0 | F42: =Ergebnisliste!R47 -> 0 | G42: =Ergebnisliste!S47 -> 9.9
A43: =Ergebnisliste!A73 -> Sofia Dzhioeva | B43: =Ergebnisliste!B73 -> 2015 | C43: =Ergebnisliste!F73 -> 0 | D43: =Ergebnisliste!J73 -> 0 | E43: =Ergebnisliste!N73 -> 0 | F43: =Ergebnisliste!R73 -> 0 | G43: =Ergebnisliste!S73 -> 0
A44: =Ergebnisliste!A92 -> Liva Simon | B44: =Ergebnisliste!B92 -> 2018 | C44: =Ergebnisliste!F92 -> 0 | D44: =Ergebnisliste!J92 -> 0 | E44: =Ergebnisliste!N92 -> 0 | F44: =Ergebnisliste!R92 -> 0 | G44: =Ergebnisliste!S92 -> 0
A45: =Ergebnisliste!A67 -> Kim Jessen | B45: =Ergebnisliste!B67 -> 2009 | C45: =Ergebnisliste!F67 -> 0 | D45: =Ergebnisliste!J67 -> 0 | E45: =Ergebnisliste!N67 -> 0 | F45: =Ergebnisliste!R67 -> 0 | G45: =Ergebnisliste!S67 -> 0
A46: =Ergebnisliste!A107 -> Hanna Schumann | B46: =Ergebnisliste!B107 -> 2016 | C46: =Ergebnisliste!F107 -> 0 | D46: =Ergebnisliste!J107 -> 0 | E46: =Ergebnisliste!N107 -> 0 | F46: =Ergebnisliste!R107 -> 0 | G46: =Ergebnisliste!S107 -> 0
A47: =Ergebnisliste!A9 -> Mara Avril Elsa Stoffel | B47: =Ergebnisliste!B9 -> 2010 | C47: =Ergebnisliste!F9 -> 0 | D47: =Ergebnisliste!J9 -> 0 | E47: =Ergebnisliste!N9 -> 0 | F47: =Ergebnisliste!R9 -> 0 | G47: =Ergebnisliste!S9 -> 0
A48: =Ergebnisliste!A111 -> Insa Behrens | B48: =Ergebnisliste!B111 -> 2015 | C48: =Ergebnisliste!F111 -> 0 | D48: =Ergebnisliste!J111 -> 0 | E48: =Ergebnisliste!N111 -> 0 | F48: =Ergebnisliste!R111 -> 0 | G48: =Ergebnisliste!S111 -> 0
A49: =Ergebnisliste!A106 -> Mia De Le Roi | B49: =Ergebnisliste!B106 -> 2015 | C49: =Ergebnisliste!F106 -> 0 | D49: =Ergebnisliste!J106 -> 0 | E49: =Ergebnisliste!N106 -> 0 | F49: =Ergebnisliste!R106 -> 0 | G49: =Ergebnisliste!S106 -> 0
A50: =Ergebnisliste!A130 -> 0 | B50: =Ergebnisliste!B130 -> 0 | C50: =Ergebnisliste!F130 -> 0 | D50: =Ergebnisliste!J130 -> 0 | E50: =Ergebnisliste!N130 -> 0 | F50: =Ergebnisliste!R130 -> 0 | G50: =Ergebnisliste!S130 -> 0
A51: =Ergebnisliste!A87 -> Mia Wroblewski | B51: =Ergebnisliste!B87 -> 2018 | C51: =Ergebnisliste!F87 -> 0 | D51: =Ergebnisliste!J87 -> 0 | E51: =Ergebnisliste!N87 -> 0 | F51: =Ergebnisliste!R87 -> 0 | G51: =Ergebnisliste!S87 -> 0
A52: =Ergebnisliste!A26 -> Klara Biene | B52: =Ergebnisliste!B26 -> 2010 | C52: =Ergebnisliste!F26 -> 0 | D52: =Ergebnisliste!J26 -> 0 | E52: =Ergebnisliste!N26 -> 0 | F52: =Ergebnisliste!R26 -> 0 | G52: =Ergebnisliste!S26 -> 0
A53: =Ergebnisliste!A93 -> 0 | B53: =Ergebnisliste!B93 -> 0 | C53: =Ergebnisliste!F93 -> 0 | D53: =Ergebnisliste!J93 -> 0 | E53: =Ergebnisliste!N93 -> 0 | F53: =Ergebnisliste!R93 -> 0 | G53: =Ergebnisliste!S93 -> 0
A54: =Ergebnisliste!A50 -> Clara Schlimm | B54: =Ergebnisliste!B50 -> 2016 | C54: =Ergebnisliste!F50 -> 0 | D54: =Ergebnisliste!J50 -> 0 | E54: =Ergebnisliste!N50 -> 0 | F54: =Ergebnisliste!R50 -> 0 | G54: =Ergebnisliste!S50 -> 0
A55: =Ergebnisliste!A113 -> Melanie Bacoj | B55: =Ergebnisliste!B113 -> 2015 | C55: =Ergebnisliste!F113 -> 0 | D55: =Ergebnisliste!J113 -> 0 | E55: =Ergebnisliste!N113 -> 0 | F55: =Ergebnisliste!R113 -> 0 | G55: =Ergebnisliste!S113 -> 0
A56: =Ergebnisliste!A152 -> Berit Kramer | B56: =Ergebnisliste!B152 -> 2013 | C56: =Ergebnisliste!F152 -> 0 | D56: =Ergebnisliste!J152 -> 0 | E56: =Ergebnisliste!N152 -> 0 | F56: =Ergebnisliste!R152 -> 0 | G56: =Ergebnisliste!S152 -> 0
A57: =Ergebnisliste!A70 -> Jana Petersen | B57: =Ergebnisliste!B70 -> 2010 | C57: =Ergebnisliste!F70 -> 0 | D57: =Ergebnisliste!J70 -> 0 | E57: =Ergebnisliste!N70 -> 0 | F57: =Ergebnisliste!R70 -> 0 | G57: =Ergebnisliste!S70 -> 0
A58: =Ergebnisliste!A12 -> Matilda Karich | B58: =Ergebnisliste!B12 -> 2015 | C58: =Ergebnisliste!F12 -> 0 | D58: =Ergebnisliste!J12 -> 0 | E58: =Ergebnisliste!N12 -> 0 | F58: =Ergebnisliste!R12 -> 0 | G58: =Ergebnisliste!S12 -> 0
A59: =Ergebnisliste!A112 -> Romy Beiland | B59: =Ergebnisliste!B112 -> 2016 | C59: =Ergebnisliste!F112 -> 0 | D59: =Ergebnisliste!J112 -> 0 | E59: =Ergebnisliste!N112 -> 0 | F59: =Ergebnisliste!R112 -> 0 | G59: =Ergebnisliste!S112 -> 0
A60: =Ergebnisliste!A34 -> Marlene Pfohl | B60: =Ergebnisliste!B34 -> 2018 | C60: =Ergebnisliste!F34 -> 0 | D60: =Ergebnisliste!J34 -> 0 | E60: =Ergebnisliste!N34 -> 0 | F60: =Ergebnisliste!R34 -> 0 | G60: =Ergebnisliste!S34 -> 0
A61: =Ergebnisliste!A71 -> Stina Gerdsen | B61: =Ergebnisliste!B71 -> 2006 | C61: =Ergebnisliste!F71 -> 0 | D61: =Ergebnisliste!J71 -> 0 | E61: =Ergebnisliste!N71 -> 0 | F61: =Ergebnisliste!R71 -> 0 | G61: =Ergebnisliste!S71 -> 0
A62: =Ergebnisliste!A75 -> Leoni König | B62: =Ergebnisliste!B75 -> 2015 | C62: =Ergebnisliste!F75 -> 0 | D62: =Ergebnisliste!J75 -> 0 | E62: =Ergebnisliste!N75 -> 0 | F62: =Ergebnisliste!R75 -> 0 | G62: =Ergebnisliste!S75 -> 0
A63: =Ergebnisliste!A153 -> 0 | B63: =Ergebnisliste!B153 -> 0 | C63: =Ergebnisliste!F153 -> 0 | D63: =Ergebnisliste!J153 -> 0 | E63: =Ergebnisliste!N153 -> 0 | F63: =Ergebnisliste!R153 -> 0 | G63: =Ergebnisliste!S153 -> 0
A64: =Ergebnisliste!A14 -> Greta Elionor Volkmann | B64: =Ergebnisliste!B14 -> 2017 | C64: =Ergebnisliste!F14 -> 0 | D64: =Ergebnisliste!J14 -> 0 | E64: =Ergebnisliste!N14 -> 0 | F64: =Ergebnisliste!R14 -> 0 | G64: =Ergebnisliste!S14 -> 0
A65: =Ergebnisliste!A109 -> Beke Völz | B65: =Ergebnisliste!B109 -> 2018 | C65: =Ergebnisliste!F109 -> 0 | D65: =Ergebnisliste!J109 -> 0 | E65: =Ergebnisliste!N109 -> 0 | F65: =Ergebnisliste!R109 -> 0 | G65: =Ergebnisliste!S109 -> 0
A66: =Ergebnisliste!A108 -> Ida De Le Roi | B66: =Ergebnisliste!B108 -> 2018 | C66: =Ergebnisliste!F108 -> 0 | D66: =Ergebnisliste!J108 -> 0 | E66: =Ergebnisliste!N108 -> 0 | F66: =Ergebnisliste!R108 -> 0 | G66: =Ergebnisliste!S108 -> 0
A67: =Ergebnisliste!A32 -> Tilda Söth | B67: =Ergebnisliste!B32 -> 2017 | C67: =Ergebnisliste!F32 -> 0 | D67: =Ergebnisliste!J32 -> 0 | E67: =Ergebnisliste!N32 -> 0 | F67: =Ergebnisliste!R32 -> 0 | G67: =Ergebnisliste!S32 -> 0
A68: =Ergebnisliste!A95 -> 0 | B68: =Ergebnisliste!B95 -> 0 | C68: =Ergebnisliste!F95 -> 0 | D68: =Ergebnisliste!J95 -> 0 | E68: =Ergebnisliste!N95 -> 0 | F68: =Ergebnisliste!R95 -> 0 | G68: =Ergebnisliste!S95 -> 0
A69: =Ergebnisliste!A77 -> Lena Brenneke | B69: =Ergebnisliste!B77 -> 2016 | C69: =Ergebnisliste!F77 -> 0 | D69: =Ergebnisliste!J77 -> 0 | E69: =Ergebnisliste!N77 -> 0 | F69: =Ergebnisliste!R77 -> 0 | G69: =Ergebnisliste!S77 -> 0
A70: =Ergebnisliste!A69 -> Lenja Nielsen | B70: =Ergebnisliste!B69 -> 2012 | C70: =Ergebnisliste!F69 -> 0 | D70: =Ergebnisliste!J69 -> 0 | E70: =Ergebnisliste!N69 -> 0 | F70: =Ergebnisliste!R69 -> 0 | G70: =Ergebnisliste!S69 -> 0
A71: =Ergebnisliste!A94 -> 0 | B71: =Ergebnisliste!B94 -> 0 | C71: =Ergebnisliste!F94 -> 0 | D71: =Ergebnisliste!J94 -> 0 | E71: =Ergebnisliste!N94 -> 0 | F71: =Ergebnisliste!R94 -> 0 | G71: =Ergebnisliste!S94 -> 0
A72: =Ergebnisliste!A97 -> 0 | B72: =Ergebnisliste!B97 -> 0 | C72: =Ergebnisliste!F97 -> 0 | D72: =Ergebnisliste!J97 -> 0 | E72: =Ergebnisliste!N97 -> 0 | F72: =Ergebnisliste!R97 -> 0 | G72: =Ergebnisliste!S97 -> 0
A73: =Ergebnisliste!A99 -> 0 | B73: =Ergebnisliste!B99 -> 0 | C73: =Ergebnisliste!F99 -> 0 | D73: =Ergebnisliste!J99 -> 0 | E73: =Ergebnisliste!N99 -> 0 | F73: =Ergebnisliste!R99 -> 0 | G73: =Ergebnisliste!S99 -> 0
A74: =Ergebnisliste!A100 -> 0 | B74: =Ergebnisliste!B100 -> 0 | C74: =Ergebnisliste!F100 -> 0 | D74: =Ergebnisliste!J100 -> 0 | E74: =Ergebnisliste!N100 -> 0 | F74: =Ergebnisliste!R100 -> 0 | G74: =Ergebnisliste!S100 -> 0
A75: =Ergebnisliste!A96 -> 0 | B75: =Ergebnisliste!B96 -> 0 | C75: =Ergebnisliste!F96 -> 0 | D75: =Ergebnisliste!J96 -> 0 | E75: =Ergebnisliste!N96 -> 0 | F75: =Ergebnisliste!R96 -> 0 | G75: =Ergebnisliste!S96 -> 0
A76: =Ergebnisliste!A98 -> 0 | B76: =Ergebnisliste!B98 -> 0 | C76: =Ergebnisliste!F98 -> 0 | D76: =Ergebnisliste!J98 -> 0 | E76: =Ergebnisliste!N98 -> 0 | F76: =Ergebnisliste!R98 -> 0 | G76: =Ergebnisliste!S98 -> 0
A77: =Ergebnisliste!A110 -> Godje Wilkens | B77: =Ergebnisliste!B110 -> 2017 | C77: =Ergebnisliste!F110 -> 0 | D77: =Ergebnisliste!J110 -> 0 | E77: =Ergebnisliste!N110 -> 0 | F77: =Ergebnisliste!R110 -> 0 | G77: =Ergebnisliste!S110 -> 0
A78: =Ergebnisliste!A53 -> Elisa Schedukat | B78: =Ergebnisliste!B53 -> 2017 | C78: =Ergebnisliste!F53 -> 0 | D78: =Ergebnisliste!J53 -> 0 | E78: =Ergebnisliste!N53 -> 0 | F78: =Ergebnisliste!R53 -> 0 | G78: =Ergebnisliste!S53 -> 0
A79: =Ergebnisliste!A27 -> Ebba Söth | B79: =Ergebnisliste!B27 -> 2015 | C79: =Ergebnisliste!F27 -> 0 | D79: =Ergebnisliste!J27 -> 0 | E79: =Ergebnisliste!N27 -> 0 | F79: =Ergebnisliste!R27 -> 0 | G79: =Ergebnisliste!S27 -> 0
A80: =Ergebnisliste!A78 -> Ida Marie Köhler | B80: =Ergebnisliste!B78 -> 2014 | C80: =Ergebnisliste!F78 -> 0 | D80: =Ergebnisliste!J78 -> 0 | E80: =Ergebnisliste!N78 -> 0 | F80: =Ergebnisliste!R78 -> 0 | G80: =Ergebnisliste!S78 -> 0
A81: =Ergebnisliste!A132 -> 0 | B81: =Ergebnisliste!B132 -> 0 | C81: =Ergebnisliste!F132 -> 0 | D81: =Ergebnisliste!J132 -> 0 | E81: =Ergebnisliste!N132 -> 0 | F81: =Ergebnisliste!R132 -> 0 | G81: =Ergebnisliste!S132 -> 0
A82: =Ergebnisliste!A154 -> 0 | B82: =Ergebnisliste!B154 -> 0 | C82: =Ergebnisliste!F154 -> 0 | D82: =Ergebnisliste!J154 -> 0 | E82: =Ergebnisliste!N154 -> 0 | F82: =Ergebnisliste!R154 -> 0 | G82: =Ergebnisliste!S154 -> 0
A83: =Ergebnisliste!A155 -> 0 | B83: =Ergebnisliste!B155 -> 0 | C83: =Ergebnisliste!F155 -> 0 | D83: =Ergebnisliste!J155 -> 0 | E83: =Ergebnisliste!N155 -> 0 | F83: =Ergebnisliste!R155 -> 0 | G83: =Ergebnisliste!S155 -> 0
A84: =Ergebnisliste!A131 -> 0 | B84: =Ergebnisliste!B131 -> 0 | C84: =Ergebnisliste!F131 -> 0 | D84: =Ergebnisliste!J131 -> 0 | E84: =Ergebnisliste!N131 -> 0 | F84: =Ergebnisliste!R131 -> 0 | G84: =Ergebnisliste!S131 -> 0
A85: =Ergebnisliste!A15 -> 0 | B85: =Ergebnisliste!B15 -> 0 | C85: =Ergebnisliste!F15 -> 0 | D85: =Ergebnisliste!J15 -> 0 | E85: =Ergebnisliste!N15 -> 0 | F85: =Ergebnisliste!R15 -> 0 | G85: =Ergebnisliste!S15 -> 0
A86: =Ergebnisliste!A16 -> 0 | B86: =Ergebnisliste!B16 -> 0 | C86: =Ergebnisliste!F16 -> 0 | D86: =Ergebnisliste!J16 -> 0 | E86: =Ergebnisliste!N16 -> 0 | F86: =Ergebnisliste!R16 -> 0 | G86: =Ergebnisliste!S16 -> 0
A87: =Ergebnisliste!A17 -> 0 | B87: =Ergebnisliste!B17 -> 0 | C87: =Ergebnisliste!F17 -> 0 | D87: =Ergebnisliste!J17 -> 0 | E87: =Ergebnisliste!N17 -> 0 | F87: =Ergebnisliste!R17 -> 0 | G87: =Ergebnisliste!S17 -> 0
A88: =Ergebnisliste!A18 -> 0 | B88: =Ergebnisliste!B18 -> 0 | C88: =Ergebnisliste!F18 -> 0 | D88: =Ergebnisliste!J18 -> 0 | E88: =Ergebnisliste!N18 -> 0 | F88: =Ergebnisliste!R18 -> 0 | G88: =Ergebnisliste!S18 -> 0
A89: =Ergebnisliste!A19 -> 0 | B89: =Ergebnisliste!B19 -> 0 | C89: =Ergebnisliste!F19 -> 0 | D89: =Ergebnisliste!J19 -> 0 | E89: =Ergebnisliste!N19 -> 0 | F89: =Ergebnisliste!R19 -> 0 | G89: =Ergebnisliste!S19 -> 0
A90: =Ergebnisliste!A20 -> 0 | B90: =Ergebnisliste!B20 -> 0 | C90: =Ergebnisliste!F20 -> 0 | D90: =Ergebnisliste!J20 -> 0 | E90: =Ergebnisliste!N20 -> 0 | F90: =Ergebnisliste!R20 -> 0 | G90: =Ergebnisliste!S20 -> 0
A91: =Ergebnisliste!A37 -> 0 | B91: =Ergebnisliste!B37 -> 0 | C91: =Ergebnisliste!F37 -> 0 | D91: =Ergebnisliste!J37 -> 0 | E91: =Ergebnisliste!N37 -> 0 | F91: =Ergebnisliste!R37 -> 0 | G91: =Ergebnisliste!S37 -> 0
A92: =Ergebnisliste!A38 -> 0 | B92: =Ergebnisliste!B38 -> 0 | C92: =Ergebnisliste!F38 -> 0 | D92: =Ergebnisliste!J38 -> 0 | E92: =Ergebnisliste!N38 -> 0 | F92: =Ergebnisliste!R38 -> 0 | G92: =Ergebnisliste!S38 -> 0
A93: =Ergebnisliste!A39 -> 0 | B93: =Ergebnisliste!B39 -> 0 | C93: =Ergebnisliste!F39 -> 0 | D93: =Ergebnisliste!J39 -> 0 | E93: =Ergebnisliste!N39 -> 0 | F93: =Ergebnisliste!R39 -> 0 | G93: =Ergebnisliste!S39 -> 0
A94: =Ergebnisliste!A40 -> 0 | B94: =Ergebnisliste!B40 -> 0 | C94: =Ergebnisliste!F40 -> 0 | D94: =Ergebnisliste!J40 -> 0 | E94: =Ergebnisliste!N40 -> 0 | F94: =Ergebnisliste!R40 -> 0 | G94: =Ergebnisliste!S40 -> 0
A95: =Ergebnisliste!A54 -> 0 | B95: =Ergebnisliste!B54 -> 0 | C95: =Ergebnisliste!F54 -> 0 | D95: =Ergebnisliste!J54 -> 0 | E95: =Ergebnisliste!N54 -> 0 | F95: =Ergebnisliste!R54 -> 0 | G95: =Ergebnisliste!S54 -> 0
A96: =Ergebnisliste!A55 -> 0 | B96: =Ergebnisliste!B55 -> 0 | C96: =Ergebnisliste!F55 -> 0 | D96: =Ergebnisliste!J55 -> 0 | E96: =Ergebnisliste!N55 -> 0 | F96: =Ergebnisliste!R55 -> 0 | G96: =Ergebnisliste!S55 -> 0
A97: =Ergebnisliste!A56 -> 0 | B97: =Ergebnisliste!B56 -> 0 | C97: =Ergebnisliste!F56 -> 0 | D97: =Ergebnisliste!J56 -> 0 | E97: =Ergebnisliste!N56 -> 0 | F97: =Ergebnisliste!R56 -> 0 | G97: =Ergebnisliste!S56 -> 0
A98: =Ergebnisliste!A57 -> 0 | B98: =Ergebnisliste!B57 -> 0 | C98: =Ergebnisliste!F57 -> 0 | D98: =Ergebnisliste!J57 -> 0 | E98: =Ergebnisliste!N57 -> 0 | F98: =Ergebnisliste!R57 -> 0 | G98: =Ergebnisliste!S57 -> 0
A99: =Ergebnisliste!A58 -> 0 | B99: =Ergebnisliste!B58 -> 0 | C99: =Ergebnisliste!F58 -> 0 | D99: =Ergebnisliste!J58 -> 0 | E99: =Ergebnisliste!N58 -> 0 | F99: =Ergebnisliste!R58 -> 0 | G99: =Ergebnisliste!S58 -> 0
A100: =Ergebnisliste!A59 -> 0 | B100: =Ergebnisliste!B59 -> 0 | C100: =Ergebnisliste!F59 -> 0 | D100: =Ergebnisliste!J59 -> 0 | E100: =Ergebnisliste!N59 -> 0 | F100: =Ergebnisliste!R59 -> 0 | G100: =Ergebnisliste!S59 -> 0
...
