Workbook

Sheet Ergebnisliste
A1: Nordliga LK4 B
A3: Verein: | B3: Wiker SV
A4: Name | B4: Jahrgang | C4: Sprung | G4: Barren | K4: Balken | O4: Boden | S4: Gesamt
C5: D | D5: E | E5: Pen | F5: Total | G5: D | H5: E | I5: Pen | J5: Total | K5: D | L5: E | M5: Pen | N5: Total | O5: D | P5: E | Q5: Pen | R5: Total
A6: Ida von Seeler | B6: 2014 | C6: 3.1 | D6: 6.9 | F6: =C6+D6-E6 -> 10 | G6: 2.9 | H6: 7 | J6: =G6+H6-I6 -> 9.9 | K6: 2.8 | L6: 6.3 | N6: =K6+L6-M6 -> 9.1 | O6: 3.7 | P6: 7.1 | R6: =O6+P6-Q6 -> 10.8 | S6: =R6+N6+J6+F6 -> 39.8
A7: Nika Kruel | B7: 2013 | C7: 3.1 | D7: 7.6 | F7: =C7+D7-E7 -> 10.7 | G7: 3.3 | H7: 7.8 | J7: =G7+H7-I7 -> 11.1 | N7: =K7+L7-M7 -> 0 | R7: =O7+P7-Q7 -> 0 | S7: =R7+N7+J7+F7 -> 21.8
A8: Pia Rapp | B8: 2017 | C8: 3.1 | D8: 7.9 | F8: =C8+D8-E8 -> 11 | G8: 3.3 | H8: 8 | J8: =G8+H8-I8 -> 11.3 | K8: 3 | L8: 8.2 | N8: =K8+L8-M8 -> 11.2 | O8: 3.6 | P8: 7.1 | R8: =O8+P8-Q8 -> 10.7 | S8: =R8+N8+J8+F8 -> 44.2
A9: Mara Avril Elsa Stoffel | B9: 2010 | F9: =C9+D9-E9 -> 0 | J9: =G9+H9-I9 -> 0 | N9: =K9+L9-M9 -> 0 | R9: =O9+P9-Q9 -> 0 | S9: =R9+N9+J9+F9 -> 0
A10: Elena Drengenberg | B10: 2014 | C10: 3.1 | D10: 7.6 | F10: =C10+D10-E10 -> 10.7 | J10: =G10+H10-I10 -> 0 | K10: 1.8 | L10: 6.9 | N10: =K10+L10-M10 -> 8.7 | O10: 3.4 | P10: 7 | R10: =O10+P10-Q10 -> 10.4 | S10: =R10+N10+J10+F10 -> 29.8
A11: Sofia Condori-Buddemeier | B11: 2016 | C11: 1.6 | D11: 7.8 | F11: =C11+D11-E11 -> 9.4 | G11: 3 | H11: 6.7 | J11: =G11+H11-I11 -> 9.7 | K11: 2 | L11: 7.3 | N11: =K11+L11-M11 -> 9.3 | O11: 3.6 | P11: 6.4 | R11: =O11+P11-Q11 -> 10 | S11: =R11+N11+J11+F11 -> 38.4
A12: Matilda Karich | B12: 2015 | F12: =C12+D12-E12 -> 0 | J12: =G12+H12-I12 -> 0 | N12: =K12+L12-M12 -> 0 | R12: =O12+P12-Q12 -> 0 | S12: =R12+N12+J12+F12 -> 0
A13: Flora Thiede | B13: 2012 | F13: =C13+D13-E13 -> 0 | J13: =G13+H13-I13 -> 0 | K13: 1.4 | L13: 7.2 | N13: =K13+L13-M13 -> 8.6 | O13: 3.3 | P13: 6.9 | R13: =O13+P13-Q13 -> 10.2 | S13: =R13+N13+J13+F13 -> 18.8
A14: Greta Elionor Volkmann | B14: 2017 | F14: =C14+D14-E14 -> 0 | J14: =G14+H14-I14 -> 0 | N14: =K14+L14-M14 -> 0 | R14: =O14+P14-Q14 -> 0 | S14: =R14+N14+J14+F14 -> 0
F15: =C15+D15-E15 -> 0 | J15: =G15+H15-I15 -> 0 | N15: =K15+L15-M15 -> 0 | R15: =O15+P15-Q15 -> 0 | S15: =R15+N15+J15+F15 -> 0
F16: =C16+D16-E16 -> 0 | J16: =G16+H16-I16 -> 0 | N16: =K16+L16-M16 -> 0 | R16: =O16+P16-Q16 -> 0 | S16: =R16+N16+J16+F16 -> 0
F17: =C17+D17-E17 -> 0 | J17: =G17+H17-I17 -> 0 | N17: =K17+L17-M17 -> 0 | R17: =O17+P17-Q17 -> 0 | S17: =R17+N17+J17+F17 -> 0
F18: =C18+D18-E18 -> 0 | J18: =G18+H18-I18 -> 0 | N18: =K18+L18-M18 -> 0 | R18: =O18+P18-Q18 -> 0 | S18: =R18+N18+J18+F18 -> 0
F19: =C19+D19-E19 -> 0 | J19: =G19+H19-I19 -> 0 | N19: =K19+L19-M19 -> 0 | R19: =O19+P19-Q19 -> 0 | S19: =R19+N19+J19+F19 -> 0
F20: =C20+D20-E20 -> 0 | J20: =G20+H20-I20 -> 0 | N20: =K20+L20-M20 -> 0 | R20: =O20+P20-Q20 -> 0 | S20: =R20+N20+J20+F20 -> 0
A21: Mannschaftsergebnis: | F21: =LARGE(F6:F20,1)+LARGE(F6:F20,2)+LARGE(F6:F20,3) -> 32.4 | J21: =LARGE(J6:J20,1)+LARGE(J6:J20,2)+LARGE(J6:J20,3) -> 32.3 | N21: =LARGE(N6:N20,1)+LARGE(N6:N20,2)+LARGE(N6:N20,3) -> 29.6 | R21: =LARGE(R6:R20,1)+LARGE(R6:R20,2)+LARGE(R6:R20,3) -> 31.9 | S21: =R21+N21+J21+F21 -> 126.2
A23: Verein: | B23: Rendsburger TSV V
A24: Name | B24: Jahrgang | C24: Sprung | G24: Barren | K24: Balken | O24: Boden | S24: Gesamt
C25: D | D25: E | E25: Pen | F25: Total | G25: D | H25: E | I25: Pen | J25: Total | K25: D | L25: E | M25: Pen | N25: Total | O25: D | P25: E | Q25: Pen | R25: Total
A26: Klara Biene | B26: 2010 | F26: =C26+D26-E26 -> 0 | J26: =G26+H26-I26 -> 0 | N26: =K26+L26-M26 -> 0 | R26: =O26+P26-Q26 -> 0 | S26: =R26+N26+J26+F26 -> 0
A27: Ebba Söth | B27: 2015 | F27: =C27+D27-E27 -> 0 | J27: =G27+H27-I27 -> 0 | N27: =K27+L27-M27 -> 0 | R27: =O27+P27-Q27 -> 0 | S27: =R27+N27+J27+F27 -> 0
A28: Leni Schröder | B28: 2016 | C28: 3.1 | D28: 7.6 | F28: =C28+D28-E28 -> 10.7 | J28: =G28+H28-I28 -> 0 | K28: 4 | L28: 6.8 | N28: =K28+L28-M28 -> 10.8 | O28: 3.3 | P28: 8.1 | R28: =O28+P28-Q28 -> 11.4 | S28: =R28+N28+J28+F28 -> 32.9
A29: Sophie Harms | B29: 2017 | C29: 1.6 | D29: 8.5 | F29: =C29+D29-E29 -> 10.1 | G29: 3.1 | H29: 7.9 | J29: =G29+H29-I29 -> 11 | K29: 1.5 | L29: 7.3 | N29: =K29+L29-M29 -> 8.8 | O29: 3.3 | P29: 8.4 | R29: =O29+P29-Q29 -> 11.7 | S29: =R29+N29+J29+F29 -> 41.6
A30: Alva Rabenow | B30: 2017 | C30: 1.6 | D30: 8.2 | F30: =C30+D30-E30 -> 9.8 | G30: 3.1 | H30: 6.9 | J30: =G30+H30-I30 -> 10 | K30: 2.9 | L30: 6.5 | N30: =K30+L30-M30 -> 9.4 | O30: 3.9 | P30: 7.4 | Q30: 0.1 | R30: =O30+P30-Q30 -> 11.2 | S30: =R30+N30+J30+F30 -> 40.4
A31: Lenia Claussen | B31: 2017 | C31: 1.6 | D31: 8.1 | F31: =C31+D31-E31 -> 9.7 | G31: 2.4 | H31: 8.2 | J31: =G31+H31-I31 -> 10.6 | K31: 2.7 | L31: 8.5 | N31: =K31+L31-M31 -> 11.2 | O31: 3.3 | P31: 8.3 | R31: =O31+P31-Q31 -> 11.6 | S31: =R31+N31+J31+F31 -> 43.1
A32: Tilda Söth | B32: 2017 | F32: =C32+D32-E32 -> 0 | J32: =G32+H32-I32 -> 0 | N32: =K32+L32-M32 -> 0 | R32: =O32+P32-Q32 -> 0 | S32: =R32+N32+J32+F32 -> 0
A33: Yosra Fatnassi | B33: 2018 | F33: =C33+D33-E33 -> 0 | G33: 2.4 | H33: 8 | J33: =G33+H33-I33 -> 10.4 | N33: =K33+L33-M33 -> 0 | O33: 2.6 | P33: 8 | R33: =O33+P33-Q33 -> 10.6 | S33: =R33+N33+J33+F33 -> 21
A34: Marlene Pfohl | B34: 2018 | F34: =C34+D34-E34 -> 0 | J34: =G34+H34-I34 -> 0 | N34: =K34+L34-M34 -> 0 | R34: =O34+P34-Q34 -> 0 | S34: =R34+N34+J34+F34 -> 0
A35: Pepper Müller | B35: 2021 | F35: =C35+D35-E35 -> 0 | G35: 2.4 | H35: 7.5 | J35: =G35+H35-I35 -> 9.9 | N35: =K35+L35-M35 -> 0 | R35: =O35+P35-Q35 -> 0 | S35: =R35+N35+J35+F35 -> 9.9
A36: Mia Riedl | C36: 1.6 | D36: 7.8 | F36: =C36+D36-E36 -> 9.4 | J36: =G36+H36-I36 -> 0 | K36: 1.5 | L36: 8.2 | N36: =K36+L36-M36 -> 9.7 | R36: =O36+P36-Q36 -> 0 | S36: =R36+N36+J36+F36 -> 19.1
F37: =C37+D37-E37 -> 0 | J37: =G37+H37-I37 -> 0 | N37: =K37+L37-M37 -> 0 | R37: =O37+P37-Q37 -> 0 | S37: =R37+N37+J37+F37 -> 0
F38: =C38+D38-E38 -> 0 | J38: =G38+H38-I38 -> 0 | N38: =K38+L38-M38 -> 0 | R38: =O38+P38-Q38 -> 0 | S38: =R38+N38+J38+F38 -> 0
F39: =C39+D39-E39 -> 0 | J39: =G39+H39-I39 -> 0 | N39: =K39+L39-M39 -> 0 | R39: =O39+P39-Q39 -> 0 | S39: =R39+N39+J39+F39 -> 0
F40: =C40+D40-E40 -> 0 | J40: =G40+H40-I40 -> 0 | N40: =K40+L40-M40 -> 0 | R40: =O40+P40-Q40 -> 0 | S40: =R40+N40+J40+F40 -> 0
A41: Mannschaftsergebnis: | F41: =LARGE(F26:F40,1)+LARGE(F26:F40,2)+LARGE(F26:F40,3) -> 30.6 | J41: =LARGE(J26:J40,1)+LARGE(J26:J40,2)+LARGE(J26:J40,3) -> 32 | N41: =LARGE(N26:N40,1)+LARGE(N26:N40,2)+LARGE(N26:N40,3) -> 31.7 | R41: =LARGE(R26:R40,1)+LARGE(R26:R40,2)+LARGE(R26:R40,3) -> 34.7 | S41: =R41+N41+J41+F41 -> 129
A43: Verein: | B43: TuS Holtenau
...

Sheet Zusammenfassung
A1: Verein | B1: Sprung | C1: Barren | D1: Balken | E1: Boden | F1: Gesamt | G1: Platzierung
A2: =Ergebnisliste!B63 -> TSV Niebüll | B2: =Ergebnisliste!F81 -> 34.5 | C2: =Ergebnisliste!J81 -> 32.1 | D2: =Ergebnisliste!N81 -> 36.3 | E2: =Ergebnisliste!R81 -> 35.1 | F2: =Ergebnisliste!S81 -> 138 | G2: =RANK(F2,$F$2:$F$9,0) -> 1
A3: =Ergebnisliste!B123 -> Gettorfer TV | B3: =Ergebnisliste!F141 -> 34.35 | C3: =Ergebnisliste!J141 -> 28.3 | D3: =Ergebnisliste!N141 -> 36 | E3: =Ergebnisliste!R141 -> 35.7 | F3: =Ergebnisliste!S141 -> 134.35 | G3: =RANK(F3,$F$2:$F$9,0) -> 2
A4: =Ergebnisliste!B143 -> TSV Bordesholm | B4: =Ergebnisliste!F161 -> 33 | C4: =Ergebnisliste!J161 -> 30.3 | D4: =Ergebnisliste!N161 -> 35.7 | E4: =Ergebnisliste!R161 -> 35.2 | F4: =Ergebnisliste!S161 -> 134.2 | G4: =RANK(F4,$F$2:$F$9,0) -> 3
A5: =Ergebnisliste!B23 -> Rendsburger TSV V | B5: =Ergebnisliste!F41 -> 30.6 | C5: =Ergebnisliste!J41 -> 32 | D5: =Ergebnisliste!N41 -> 31.7 | E5: =Ergebnisliste!R41 -> 34.7 | F5: =Ergebnisliste!S41 -> 129 | G5: =RANK(F5,$F$2:$F$9,0) -> 4
A6: =Ergebnisliste!B43 -> TuS Holtenau | B6: =Ergebnisliste!F61 -> 28.9 | C6: =Ergebnisliste!J61 -> 29.6 | D6: =Ergebnisliste!N61 -> 33.2 | E6: =Ergebnisliste!R61 -> 35.5 | F6: =Ergebnisliste!S61 -> 127.2 | G6: =RANK(F6,$F$2:$F$9,0) -> 5
A7: =Ergebnisliste!B83 -> TGSV Nord Wanderup | B7: =Ergebnisliste!F101 -> 30.6 | C7: =Ergebnisliste!J101 -> 30 | D7: =Ergebnisliste!N101 -> 32.1 | E7: =Ergebnisliste!R101 -> 33.8 | F7: =Ergebnisliste!S101 -> 126.5 | G7: =RANK(F7,$F$2:$F$9,0) -> 6
A8: =Ergebnisliste!B3 -> Wiker SV | B8: =Ergebnisliste!F21 -> 32.4 | C8: =Ergebnisliste!J21 -> 32.3 | D8: =Ergebnisliste!N21 -> 29.6 | E8: =Ergebnisliste!R21 -> 31.9 | F8: =Ergebnisliste!S21 -> 126.2 | G8: =RANK(F8,$F$2:$F$9,0) -> 7
A9: =Ergebnisliste!B103 -> Tönninger SV | B9: =Ergebnisliste!F121 -> 0 | C9: =Ergebnisliste!J121 -> 0 | D9: =Ergebnisliste!N121 -> 0 | E9: =Ergebnisliste!R121 -> 0 | F9: =Ergebnisliste!S121 -> 0 | G9: =RANK(F9,$F$2:$F$9,0) -> 8

Sheet Gesamtübersicht
A1: Nordliga LK3 B 2024
A3: 1. Wettkampfpunkte: Jede Mannschaft erhält entsprechend ihrem erturnten Rang Wettkampfpunkte. Diese werden über die Wettkämpfe addiert.
A4: 2. Die tatsächlichen erturnten Punkte der Mannschaft. Diese werden über die Wettkämpfe addiert.
B8: 1. Wettkampftag | D8: 2. Wettkampftag | F8: Zwischen-/Endergebnis | H8: Platz
A9: Verein
B10: geturnte Pkt | C10: WK- Punkte | D10: geturnte Pkt | E10: WK- Punkte | F10: geturnte Pkt | G10: WK- Punkte
A11: TSV Niebüll | B11: 138 | C11: 7 | F11: =B11+D11 -> 138 | G11: =C11+E11 -> 7
A12: Gettorfer TV | B12: 134.35 | C12: 6 | F12: =B12+D12 -> 134.35 | G12: =C12+E12 -> 6
A13: TSV Bordesholm | B13: 134.2 | C13: 5 | F13: =B13+D13 -> 134.2 | G13: =C13+E13 -> 5
A14: Rendsburger TSV V | B14: 129 | C14: 4 | F14: =B14+D14 -> 129 | G14: =C14+E14 -> 4
A15: TuS Holtenau | B15: 127.2 | C15: 3 | F15: =B15+D15 -> 127.2 | G15: =C15+E15 -> 3
A16: TGSV Nord Wanderup | B16: 126.5 | C16: 2 | F16: =B16+D16 -> 126.5 | G16: =C16+E16 -> 2
A17: Wiker SV | B17: 126.2 | C17: 1 | F17: =B17+D17 -> 126.2 | G17: =C17+E17 -> 1

Sheet Beste Turnerin
A1: Name | B1: Jahrgang | C1: Sprung | D1: Barren | E1: Balken | F1: Boden | G1: Gesamt
A2: =Ergebnisliste!A128 -> Frieda Schmelzing | B2: =Ergebnisliste!B128 -> 0 | C2: =Ergebnisliste!F128 -> 10.8 | D2: =Ergebnisliste!J128 -> 9 | E2: =Ergebnisliste!N128 -> 11.9 | F2: =Ergebnisliste!R128 -> 12.6 | G2: =Ergebnisliste!S128 -> 44.3
A3: =Ergebnisliste!A46 -> Matilda Fuchs | B3: =Ergebnisliste!B46 -> 2017 | C3: =Ergebnisliste!F46 -> 0 | D3: =Ergebnisliste!J46 -> 10.2 | E3: =Ergebnisliste!N46 -> 11.7 | F3: =Ergebnisliste!R46 -> 12.3 | G3: =Ergebnisliste!S46 -> 34.2
A4: =Ergebnisliste!A150 -> Klara Hamann | B4: =Ergebnisliste!B150 -> 2014 | C4: =Ergebnisliste!F150 -> 10.75 | D4: =Ergebnisliste!J150 -> 7.3 | E4: =Ergebnisliste!N150 -> 12 | F4: =Ergebnisliste!R150 -> 12.2 | G4: =Ergebnisliste!S150 -> 42.25
A5: =Ergebnisliste!A74 -> Lara Kühnel | B5: =Ergebnisliste!B74 -> 2016 | C5: =Ergebnisliste!F74 -> 10.8 | D5: =Ergebnisliste!J74 -> 11.3 | E5: =Ergebnisliste!N74 -> 10.2 | F5: =Ergebnisliste!R74 -> 12 | G5: =Ergebnisliste!S74 -> 44.3
A6: =Ergebnisliste!A48 -> Leela Ruh | B6: =Ergebnisliste!B48 -> 2017 | C6: =Ergebnisliste!F48 -> 9.55 | D6: =Ergebnisliste!J48 -> 9.3 | E6: =Ergebnisliste!N48 -> 10.7 | F6: =Ergebnisliste!R48 -> 11.8 | G6: =Ergebnisliste!S48 -> 41.35
A7: =Ergebnisliste!A68 -> Michelle Ribsam | B7: =Ergebnisliste!B68 -> 2012 | C7: =Ergebnisliste!F68 -> 11.8 | D7: =Ergebnisliste!J68 -> 0 | E7: =Ergebnisliste!N68 -> 12.2 | F7: =Ergebnisliste!R68 -> 11.7 | G7: =Ergebnisliste!S68 -> 35.7
A8: =Ergebnisliste!A29 -> Sophie Harms | B8: =Ergebnisliste!B29 -> 2017 | C8: =Ergebnisliste!F29 -> 10.1 | D8: =Ergebnisliste!J29 -> 11 | E8: =Ergebnisliste!N29 -> 8.8 | F8: =Ergebnisliste!R29 -> 11.7 | G8: =Ergebnisliste!S29 -> 41.6
A9: =Ergebnisliste!A31 -> Lenia Claussen | B9: =Ergebnisliste!B31 -> 2017 | C9: =Ergebnisliste!F31 -> 9.7 | D9: =Ergebnisliste!J31 -> 10.6 | E9: =Ergebnisliste!N31 -> 11.2 | F9: =Ergebnisliste!R31 -> 11.6 | G9: =Ergebnisliste!S31 -> 43.1
A10: =Ergebnisliste!A126 -> Katrine Sebastian | B10: =Ergebnisliste!B126 -> 0 | C10: =Ergebnisliste!F126 -> 10.7 | D10: =Ergebnisliste!J126 -> 9.8 | E10: =Ergebnisliste!N126 -> 11.4 | F10: =Ergebnisliste!R126 -> 11.6 | G10: =Ergebnisliste!S126 -> 43.5
A11: =Ergebnisliste!A90 -> Mia-Sophie Höck | B11: =Ergebnisliste!B90 -> 2016 | C11: =Ergebnisliste!F90 -> 9.7 | D11: =Ergebnisliste!J90 -> 9.9 | E11: =Ergebnisliste!N90 -> 10.4 | F11: =Ergebnisliste!R90 -> 11.6 | G11: =Ergebnisliste!S90 -> 41.6
A12: =Ergebnisliste!A151 -> Elisa Homm | B12: =Ergebnisliste!B151 -> 2014 | C12: =Ergebnisliste!F151 -> 11.2 | D12: =Ergebnisliste!J151 -> 10.2 | E12: =Ergebnisliste!N151 -> 0 | F12: =Ergebnisliste!R151 -> 11.6 | G12: =Ergebnisliste!S151 -> 33
A13: =Ergebnisliste!A127 -> Line Krause | B13: =Ergebnisliste!B127 -> 0 | C13: =Ergebnisliste!F127 -> 12 | D13: =Ergebnisliste!J127 -> 9.2 | E13: =Ergebnisliste!N127 -> 12 | F13: =Ergebnisliste!R127 -> 11.5 | G13: =Ergebnisliste!S127 -> 44.7
A14: =Ergebnisliste!A49 -> Anni Peiz | B14: =Ergebnisliste!B49 -> 2017 | C14: =Ergebnisliste!F49 -> 9.45 | D14: =Ergebnisliste!J49 -> 0 | E14: =Ergebnisliste!N49 -> 10.6 | F14: =Ergebnisliste!R49 -> 11.4 | G14: =Ergebnisliste!S49 -> 31.45
A15: =Ergebnisliste!A147 -> Anna Arpe | B15: =Ergebnisliste!B147 -> 2013 | C15: =Ergebnisliste!F147 -> 10.7 | D15: =Ergebnisliste!J147 -> 10.2 | E15: =Ergebnisliste!N147 -> 9.8 | F15: =Ergebnisliste!R147 -> 11.4 | G15: =Ergebnisliste!S147 -> 42.1
A16: =Ergebnisliste!A28 -> Leni Schröder | B16: =Ergebnisliste!B28 -> 2016 | C16: =Ergebnisliste!F28 -> 10.7 | D16: =Ergebnisliste!J28 -> 0 | E16: =Ergebnisliste!N28 -> 10.8 | F16: =Ergebnisliste!R28 -> 11.4 | G16: =Ergebnisliste!S28 -> 32.9
A17: =Ergebnisliste!A79 -> Charlotte Hoppe | B17: =Ergebnisliste!B79 -> 2014 | C17: =Ergebnisliste!F79 -> 9.45 | D17: =Ergebnisliste!J79 -> 0 | E17: =Ergebnisliste!N79 -> 10.1 | F17: =Ergebnisliste!R79 -> 11.4 | G17: =Ergebnisliste!S79 -> 30.95
A18: =Ergebnisliste!A129 -> Ronja Michelin | B18: =Ergebnisliste!B129 -> 0 | C18: =Ergebnisliste!F129 -> 11.55 | D18: =Ergebnisliste!J129 -> 9.3 | E18: =Ergebnisliste!N129 -> 12.1 | F18: =Ergebnisliste!R129 -> 11.3 | G18: =Ergebnisliste!S129 -> 44.25
A19: =Ergebnisliste!A66 -> Lina-Marleen Biehl | B19: =Ergebnisliste!B66 -> 2005 | C19: =Ergebnisliste!F66 -> 0 | D19: =Ergebnisliste!J66 -> 9.9 | E19: =Ergebnisliste!N66 -> 0 | F19: =Ergebnisliste!R66 -> 11.3 | G19: =Ergebnisliste!S66 -> 21.2
A20: =Ergebnisliste!A30 -> Alva Rabenow | B20: =Ergebnisliste!B30 -> 2017 | C20: =Ergebnisliste!F30 -> 9.8 | D20: =Ergebnisliste!J30 -> 10 | E20: =Ergebnisliste!N30 -> 9.4 | F20: =Ergebnisliste!R30 -> 11.2 | G20: =Ergebnisliste!S30 -> 40.4
A21: =Ergebnisliste!A86 -> Denise Kraft | B21: =Ergebnisliste!B86 -> 2018 | C21: =Ergebnisliste!F86 -> 10.4 | D21: =Ergebnisliste!J86 -> 8.6 | E21: =Ergebnisliste!N86 -> 10.6 | F21: =Ergebnisliste!R86 -> 11.1 | G21: =Ergebnisliste!S86 -> 40.7
A22: =Ergebnisliste!A91 -> Maila Thordsen | B22: =Ergebnisliste!B91 -> 2016 | C22: =Ergebnisliste!F91 -> 10.1 | D22: =Ergebnisliste!J91 -> 10.3 | E22: =Ergebnisliste!N91 -> 9.9 | F22: =Ergebnisliste!R91 -> 11.1 | G22: =Ergebnisliste!S91 -> 41.4
A23: =Ergebnisliste!A72 -> Maria Dzhioeva | B23: =Ergebnisliste!B72 -> 2015 | C23: =Ergebnisliste!F72 -> 10 | D23: =Ergebnisliste!J72 -> 10.5 | E23: =Ergebnisliste!N72 -> 12.2 | F23: =Ergebnisliste!R72 -> 11 | G23: =Ergebnisliste!S72 -> 43.7
A24: =Ergebnisliste!A51 -> Elisa Schedukat | B24: =Ergebnisliste!B51 -> 2017 | C24: =Ergebnisliste!F51 -> 0 | D24: =Ergebnisliste!J51 -> 0 | E24: =Ergebnisliste!N51 -> 10.8 | F24: =Ergebnisliste!R51 -> 11 | G24: =Ergebnisliste!S51 -> 21.8
A25: =Ergebnisliste!A146 -> Charlotte Albrecht | B25: =Ergebnisliste!B146 -> 2014 | C25: =Ergebnisliste!F146 -> 0 | D25: =Ergebnisliste!J146 -> 8.6 | E25: =Ergebnisliste!N146 -> 8.6 | F25: =Ergebnisliste!R146 -> 11 | G25: =Ergebnisliste!S146 -> 28.2
A26: =Ergebnisliste!A89 -> Pauline Colberg | B26: =Ergebnisliste!B89 -> 2018 | C26: =Ergebnisliste!F89 -> 10.1 | D26: =Ergebnisliste!J89 -> 9.8 | E26: =Ergebnisliste!N89 -> 10.9 | F26: =Ergebnisliste!R89 -> 10.9 | G26: =Ergebnisliste!S89 -> 41.7
A27: =Ergebnisliste!A6 -> Ida von Seeler | B27: =Ergebnisliste!B6 -> 2014 | C27: =Ergebnisliste!F6 -> 10 | D27: =Ergebnisliste!J6 -> 9.9 | E27: =Ergebnisliste!N6 -> 9.1 | F27: =Ergebnisliste!R6 -> 10.8 | G27: =Ergebnisliste!S6 -> 39.8
A28: =Ergebnisliste!A8 -> Pia Rapp | B28: =Ergebnisliste!B8 -> 2017 | C28: =Ergebnisliste!F8 -> 11 | D28: =Ergebnisliste!J8 -> 11.3 | E28: =Ergebnisliste!N8 -> 11.2 | F28: =Ergebnisliste!R8 -> 10.7 | G28: =Ergebnisliste!S8 -> 44.2
A29: =Ergebnisliste!A52 -> Emilia Burmeister | B29: =Ergebnisliste!B52 -> 2017 | C29: =Ergebnisliste!F52 -> 9.4 | D29: =Ergebnisliste!J52 -> 10.1 | E29: =Ergebnisliste!N52 -> 6.6 | F29: =Ergebnisliste!R52 -> 10.7 | G29: =Ergebnisliste!S52 -> 36.8
A30: =Ergebnisliste!A33 -> Yosra Fatnassi | B30: =Ergebnisliste!B33 -> 2018 | C30: =Ergebnisliste!F33 -> 0 | D30: =Ergebnisliste!J33 -> 10.4 | E30: =Ergebnisliste!N33 -> 0 | F30: =Ergebnisliste!R33 -> 10.6 | G30: =Ergebnisliste!S33 -> 21
A31: =Ergebnisliste!A88 -> Louisa Krüger | B31: =Ergebnisliste!B88 -> 2017 | C31: =Ergebnisliste!F88 -> 8.7 | D31: =Ergebnisliste!J88 -> 8.8 | E31: =Ergebnisliste!N88 -> 10.6 | F31: =Ergebnisliste!R88 -> 10.4 | G31: =Ergebnisliste!S88 -> 38.5
A32: =Ergebnisliste!A10 -> Elena Drengenberg | B32: =Ergebnisliste!B10 -> 2014 | C32: =Ergebnisliste!F10 -> 10.7 | D32: =Ergebnisliste!J10 -> 0 | E32: =Ergebnisliste!N10 -> 8.7 | F32: =Ergebnisliste!R10 -> 10.4 | G32: =Ergebnisliste!S10 -> 29.8
A33: =Ergebnisliste!A13 -> Flora Thiede | B33: =Ergebnisliste!B13 -> 2012 | C33: =Ergebnisliste!F13 -> 0 | D33: =Ergebnisliste!J13 -> 0 | E33: =Ergebnisliste!N13 -> 8.6 | F33: =Ergebnisliste!R13 -> 10.2 | G33: =Ergebnisliste!S13 -> 18.8
A34: =Ergebnisliste!A11 -> Sofia Condori-Buddemeier | B34: =Ergebnisliste!B11 -> 2016 | C34: =Ergebnisliste!F11 -> 9.4 | D34: =Ergebnisliste!J11 -> 9.7 | E34: =Ergebnisliste!N11 -> 9.3 | F34: =Ergebnisliste!R11 -> 10 | G34: =Ergebnisliste!S11 -> 38.4
A35: =Ergebnisliste!A149 -> Sünje Eisend | B35: =Ergebnisliste!B149 -> 2015 | C35: =Ergebnisliste!F149 -> 11 | D35: =Ergebnisliste!J149 -> 0 | E35: =Ergebnisliste!N149 -> 11.2 | F35: =Ergebnisliste!R149 -> 9.7 | G35: =Ergebnisliste!S149 -> 31.9
A36: =Ergebnisliste!A148 -> Lara Böttcher | B36: =Ergebnisliste!B148 -> 2013 | C36: =Ergebnisliste!F148 -> 10.8 | D36: =Ergebnisliste!J148 -> 9.9 | E36: =Ergebnisliste!N148 -> 12.5 | F36: =Ergebnisliste!R148 -> 0 | G36: =Ergebnisliste!S148 -> 33.2
A37: =Ergebnisliste!A76 -> Janne-Marie Helbig | B37: =Ergebnisliste!B76 -> 2015 | C37: =Ergebnisliste!F76 -> 11.9 | D37: =Ergebnisliste!J76 -> 10.3 | E37: =Ergebnisliste!N76 -> 11.9 | F37: =Ergebnisliste!R76 -> 0 | G37: =Ergebnisliste!S76 -> 34.1
A38: =Ergebnisliste!A36 -> Mia Riedl | B38: =Ergebnisliste!B36 -> 0 | C38: =Ergebnisliste!F36 -> 9.4 | D38: =Ergebnisliste!J36 -> 0 | E38: =Ergebnisliste!N36 -> 9.7 | F38: =Ergebnisliste!R36 -> 0 | G38: =Ergebnisliste!S36 -> 19.1
A39: =Ergebnisliste!A7 -> Nika Kruel | B39: =Ergebnisliste!B7 -> 2013 | C39: =Ergebnisliste!F7 -> 10.7 | D39: =Ergebnisliste!J7 -> 11.1 | E39: =Ergebnisliste!N7 -> 0 | F39: =Ergebnisliste!R7 -> 0 | G39: =Ergebnisliste!S7 -> 21.8
A40: =Ergebnisliste!A35 -> Pepper Müller | B40: =Ergebnisliste!B35 -> 2021 | C40: =Ergebnisliste!F35 -> 0 | D40: =Ergebnisliste!J35 -> 9.9 | E40: =Ergebnisliste!N35 -> 0 | F40: =Ergebnisliste!R35 -> 0 | G40: =Ergebnisliste!S35 -> 9.9
...
